BEGIN:VCALENDAR
VERSION:2.0
PRODID:-//wp-events-plugin.com//7.2.3.1//EN
BEGIN:VEVENT
UID:123@forummuenchen.org
DTSTART:20251020T190000Z
DTEND:20251020T203000Z
DTSTAMP:20251001T092639Z
URL:https://forummuenchen.org/veranstaltungen/20-oktober-muenchen-gedenkt-
 der-schwulen-und-lesbischen-ns-opfer/
SUMMARY:20. Oktober – München gedenkt der schwulen und lesbischen NS-Opf
 er
DESCRIPTION:Schwule und Lesben erlebten im Nationalsozialismus Ausgrenzung 
 und Verfolgung. Wer sich verbergen konnte\, sah\, wie die Freunde ins Gef
 ängnis oder ins KZ kamen. Tausende Männer und zahlreiche Frauen kamen do
 rt aufgrund ihrer sexuellen Orientierung ums Leben. Einige entgingen der V
 erhaftung\, ihnen gelang die Flucht ins Ausland. \nDas Forum Queeres Archi
 v München stellt beim Gedenkakt am 20. Oktober Biografien von Lesben und 
 Schwulen vor\, die ins Exil entkommen konnten\, z.B. von Anita Augspurg\, 
 Klaus und Erika Mann und Wilhelm Tag.\n\nWir treffen uns am Mahnmal für d
 ie NS-Verfolgung\, Ecke Oberanger – Dultstraße\nIm Anschluss an die Ver
 anstaltung gedenken wir der Opfer bei einem Kerzenzug zum Sub. Dort besteh
 t die Möglichkeit zu Gesprächen.\n\n\nErika und Klaus Mann
LOCATION:Mahnmal / Bodendenkmal\, Oberanger / Ecke Dultstraße\, München\,
  80331\, Deutschland
X-APPLE-STRUCTURED-LOCATION;VALUE=URI;X-ADDRESS=Oberanger / Ecke Dultstraß
 e\, München\, 80331\, Deutschland;X-APPLE-RADIUS=100;X-TITLE=Mahnmal / Bo
 dendenkmal:geo:0,0
END:VEVENT
END:VCALENDAR