BEGIN:VCALENDAR
VERSION:2.0
PRODID:-//wp-events-plugin.com//7.2.3.1//EN
BEGIN:VEVENT
UID:109@forummuenchen.org
DTSTART:20240928T173000Z
DTEND:20240928T213000Z
DTSTAMP:20240925T163048Z
URL:https://forummuenchen.org/veranstaltungen/25-jahre-forum-queeres-archi
 v-muenchen-e-v/
SUMMARY:25 Jahre Forum Queeres Archiv
DESCRIPTION:Der Ort\, an dem Du jede Frage rund um die Münchner LGBTIQ-Sze
 ne recherchieren kannst\, die Dir schon immer schlaflose Nächte bereitet 
 hat. Der Platz\, wo unsere Szene-Erinnerungen warme Aufnahme finden. Und n
 un werden wir 25! \nDank des Zuspruchs aus der Szene und der regen Beteili
 gung an unseren Veranstaltungen\, sowie der engagierten Arbeit unseres For
 ums-Teams\, sind wir mittlerweile eine kulturelle Institution in München\
 , auf die wir alle zu Recht stolz sein können.\nWir bedanken uns für die
  sehr gute und angenehme Kooperation mit den Ansprechpartner*innen in Poli
 tik und Kultur!\nUnser Jubiläum feiern wir am 28.September im Eine-Welt-H
 aus München.\nNur für Vereinsmitglieder und geladenen Gäste.\n\n
CATEGORIES:Jubiläumsfeier
LOCATION:Eine Welt Haus München\, Schwanthalerstr. 80 \, München\, 80336\
 , Deutschland
X-APPLE-STRUCTURED-LOCATION;VALUE=URI;X-ADDRESS=Schwanthalerstr. 80 \, Mün
 chen\, 80336\, Deutschland;X-APPLE-RADIUS=100;X-TITLE=Eine Welt Haus Münc
 hen:geo:0,0
END:VEVENT
END:VCALENDAR