BEGIN:VCALENDAR
VERSION:2.0
PRODID:-//wp-events-plugin.com//7.2.3.1//EN
BEGIN:VEVENT
UID:22@forummuenchen.org
DTSTART:20191025T193000Z
DTEND:20191025T213000Z
DTSTAMP:20200527T152049Z
URL:https://forummuenchen.org/veranstaltungen/3618/
SUMMARY:Vom Hitlerjungen zur Domina. Ein transsexuelles Leben im 20. Jahrhu
 ndert
DESCRIPTION:Vom 11.10.19 - 31.10.2019 findet die 2. QueerART\, anlässlich 
 "n2025" und "50Jahre Pride Bewegung" unter dem Motto „Zukunft – Gester
 n\, Heute\, Morgen“ statt.\n\n
ATTACH;FMTTYPE=image/jpeg:https://forummuenchen.org/wp-content/uploads/202
 0/05/Banner_queerart_2019.png
LOCATION:südpunkt\, Pillenreuther Str. 147\, Nürnberg\, 90459\, Deutschla
 nd
X-APPLE-STRUCTURED-LOCATION;VALUE=URI;X-ADDRESS=Pillenreuther Str. 147\, N
 ürnberg\, 90459\, Deutschland;X-APPLE-RADIUS=100;X-TITLE=südpunkt:geo:0,
 0
END:VEVENT
END:VCALENDAR