BEGIN:VCALENDAR
VERSION:2.0
PRODID:-//wp-events-plugin.com//7.2.3.1//EN
BEGIN:VEVENT
UID:104@forummuenchen.org
DTSTART:20240627T193000Z
DTEND:20240627T213000Z
DTSTAMP:20240605T144926Z
URL:https://forummuenchen.org/veranstaltungen/anna-hajkova-menschen-ohne-g
 eschichte-sind-staub-queeres-verlangen-im-holocaust/
SUMMARY:Anna Hájková: Menschen ohne Geschichte sind Staub – Queeres Ver
 langen im Holocaust
DESCRIPTION:Autorinnenlesung &amp\; Gespräch\n\nDie Holocausthistorikerin 
 Anna Hájková erklärt\, weswegen die Geschichte der gleichgeschlechtlich
 en Liebe in der Shoah marginalisiert worden ist\, und wie ihre Rückkehr e
 ine dekoloniale und sozial gerechte Geschichte dieses Genozids anbieten ka
 nn. Basierend auf originaler und umgänglicher Archivforschung\, die zweit
 e erweiterte Auflage des Klassikers »Menschen ohne Geschichte sind Staub
 «\, bietet einen prägnanten Einblick in queere Geschichte des Holocaust 
 für Anfänger*innen und Fortgeschrittene.\n\nModeration: Albert Knoll\nEi
 ne Kooperationsveranstaltung des Forum Queeres Archiv München und des Buc
 hladens Rauch &amp\; König\nAnstatt eines Eintrittsgeldes wollen wir eine
  Spende an die »Kontaktgruppe Munich Kyiv Queer« ans Herz legen.\n\nUm A
 nmeldung wird gebeten\, per E-Mail: hallo@rauchundkoenig.de oder telefonis
 ch: 089 37 01 53 63.
LOCATION:Buchladen Rauch &amp\; König\, Herzogstraße 84 \, München\, Bay
 ern\, 80796 \, Deutschland
X-APPLE-STRUCTURED-LOCATION;VALUE=URI;X-ADDRESS=Herzogstraße 84 \, Münche
 n\, Bayern\, 80796 \, Deutschland;X-APPLE-RADIUS=100;X-TITLE=Buchladen Rau
 ch & König:geo:0,0
END:VEVENT
END:VCALENDAR