BEGIN:VCALENDAR
VERSION:2.0
PRODID:-//wp-events-plugin.com//7.2.3.1//EN
BEGIN:VEVENT
UID:130@forummuenchen.org
DTSTART:20260307T150000Z
DTEND:20260307T161500Z
DTSTAMP:20260225T101940Z
URL:https://forummuenchen.org/veranstaltungen/archivfuehrung-2/
SUMMARY:Archivführung
DESCRIPTION:Im Rahmen des Tag der Archive 2026 bieten wir eine Führung dur
 ch unser Archiv an.\nÜber 5.000 Bücher\, mehr als 230 Zeitschriftentitel
 \, außerdem Poster\, Flyer\, DVDs\, T-Shirts\, Buttons und\, und\, und ..
 . das Archiv des Forum hat viel zu bieten! Wir durch unsere Räume\, stell
 en die gesammelten Materialien aus dem queeren Leben der letzten Jahrzehnt
 e vor und freuen uns über interessante Gespräche. \nEintritt frei!\nAcht
 ung: Begrenzte Teilnehmendenzahl - bitte um vorherige Anmeldung unter: inf
 o@forummuenchen.org oder 089/23269794\n
ATTACH;FMTTYPE=image/jpeg:https://forummuenchen.org/wp-content/uploads/202
 6/02/TdA_Insta.jpg
CATEGORIES:Führung
LOCATION:Forum Queeres Archiv München e.V.\, Bayerstr. 77c Rgb. (leider ni
 cht barrierefrei)\, München\, 80335\, Bayern\, Deutschland
X-APPLE-STRUCTURED-LOCATION;VALUE=URI;X-ADDRESS=Bayerstr. 77c Rgb. (leider 
 nicht barrierefrei)\, München\, 80335\, Bayern\, Deutschland;X-APPLE-RADI
 US=100;X-TITLE=Forum Queeres Archiv München e.V.:geo:0,0
END:VEVENT
END:VCALENDAR