BEGIN:VCALENDAR
VERSION:2.0
PRODID:-//wp-events-plugin.com//7.2.3.1//EN
BEGIN:VEVENT
UID:118@forummuenchen.org
DTSTART:20250624T170000Z
DTEND:20250624T183000Z
DTSTAMP:20250513T140356Z
URL:https://forummuenchen.org/veranstaltungen/archivfuehrung-im-queeren-ar
 chiv-muenchen/
SUMMARY:Archivführung im Queeren Archiv München
DESCRIPTION:Über 4.900 Bücher\, mehr als 230 Zeitschriftentitel\, außerd
 em Poster\, Flyer\, DVDs\, T-Shirts\, Buttons und\, und\, und ... das Arch
 iv des Forum hat viel zu bieten! Im Rahmen der PrideWeek führen wir durch
  unsere Räume\, stellen die gesammelten Materialien aus dem queeren Leben
  der letzten Jahrzehnte vor und freuen uns über interessante Gespräche. 
 Achtung: Begrenzte Teilnehmendenzahl - bitte um vorherige Anmeldung unter:
  info@forummuenchen.org oder 089/23269794
CATEGORIES:Führung,Information
LOCATION:Forum Queeres Archiv München e.V.\, Bayerstr. 77c Rgb. (leider ni
 cht barrierefrei)\, München\, 80335\, Bayern\, Deutschland
X-APPLE-STRUCTURED-LOCATION;VALUE=URI;X-ADDRESS=Bayerstr. 77c Rgb. (leider 
 nicht barrierefrei)\, München\, 80335\, Bayern\, Deutschland;X-APPLE-RADI
 US=100;X-TITLE=Forum Queeres Archiv München e.V.:geo:0,0
END:VEVENT
END:VCALENDAR