BEGIN:VCALENDAR
VERSION:2.0
PRODID:-//wp-events-plugin.com//7.2.3.1//EN
BEGIN:VEVENT
UID:115@forummuenchen.org
DTSTART:20241215T150000Z
DTEND:20241215T163000Z
DTSTAMP:20241025T150332Z
URL:https://forummuenchen.org/veranstaltungen/aus-dem-schatten-ins-licht-t
 exte-zum-coming-out-2/
SUMMARY:Aus dem Schatten ins Licht - Texte zum Coming Out (2)
DESCRIPTION:Nach einem 3/4-Jahr intensiver Schreibwerkstatt präsentieren w
 ir heute Abend die Ergebnisse der kreativen biografischen Schreibgruppe de
 s Forum Queeres Archiv München. In dieser Zeit sind sehr persönliche\, b
 erührende Texte rund um das Thema Coming-Out entstanden. Die Teilnehmer*i
 nnen haben ihre eigenen Geschichten und Erfahrungen in Worte gefasst und l
 aden Sie/Euch herzlich zu diesem besonderen Abend ein. Freut Euch auf auth
 entische\, bewegende Lesungen\, die Einblicke in die vielfältigen Facette
 n des Coming-Outs geben und feiert mit uns den Mut\, die Offenheit und die
  Kreativität der Autor*innen.\nEintritt frei.
ATTACH;FMTTYPE=image/jpeg:https://forummuenchen.org/wp-content/uploads/202
 4/10/Schreibkurs_BildHolger-e1729868337927.png
CATEGORIES:Lesung
LOCATION:Sub - Schwules Kommunikations- und Kulturzentrum\, Müllerstraße 
 14\, München \, 80469\, Deutschland
X-APPLE-STRUCTURED-LOCATION;VALUE=URI;X-ADDRESS=Müllerstraße 14\, Münche
 n \, 80469\, Deutschland;X-APPLE-RADIUS=100;X-TITLE=Sub - Schwules Kommuni
 kations- und Kulturzentrum:geo:0,0
END:VEVENT
END:VCALENDAR