BEGIN:VCALENDAR
VERSION:2.0
PRODID:-//wp-events-plugin.com//7.2.3.1//EN
BEGIN:VEVENT
UID:93@forummuenchen.org
DTSTART;VALUE=DATE:20230909
DTEND;VALUE=DATE:20240316
DTSTAMP:20230922T100950Z
URL:https://forummuenchen.org/veranstaltungen/brandhorst-flag-commission-p
 hilipp-gufler/
SUMMARY:Brandhorst Flag Commission: Philipp Gufler
DESCRIPTION:Die T-shirts können im Forum Queeres Archiv München und hier
  für 20 Euro plus Versandkosten in weiß\, grau und hellblau bestellt we
 rden. \n\nAb September 2023 bespielt der in Amsterdam und München lebend
 e Künstler Philipp Gufler den Ort mit einer neuen Arbeit. Mit seiner char
 akteristischen Vorgehensweise rekontextualisiert er queere Geschichte in s
 einen oft textilbasierten Werken. Anstatt komplexe Überlagerungen wie in 
 seinen Siebdrucken auf Stoffen und Spiegeln darzustellen\, nutzt er für 
 „Urning“ die visuelle Wirkungskraft des Mediums der Flagge.\n\nAuf sei
 nen Fahnen stellt Gufler den Juristen Karl Heinrich Ulrichs in Pop-Art-Äs
 thetik in den Mittelpunkt seiner Arbeit. Ulrichs prägte den Begriff „Ur
 ning“\, der in Anlehnung an den griechischen Gott Uranos erstmals die qu
 eere Identität durch eine positive Selbstbezeichnung formulierte. Am Deut
 schen Juristentag\, der am 29. August 1867 im Münchner Odeon stattfand\, 
 forderte er Straffreiheit für gleichgeschlechtliche Liebe. Obwohl sich de
 r Begriff „Urning“ nicht durchsetzen konnte\, ist Ulrichs zu einer zen
 tralen Inspirationsquelle für die queere Theorie geworden. Gufler verknü
 pft diese historische Bedeutung mit einer wegweisenden Plakataktion der In
 itiative Act Up München\, die 1995 durch die Proteste der bayerischen Lok
 alpolitik bekannt wurde. Er aktualisiert die AIDS-Aufklärungskampagne und
  schafft eine Verbindung zwischen historischem Umgang mit queerer Identit
 ät und ihrer Relevanz innerhalb aktueller Debatten.\n\nWeitere Informatio
 nen
ATTACH;FMTTYPE=image/jpeg:https://forummuenchen.org/wp-content/uploads/202
 1/10/2021_PhilippGufler_Quilts_FranzMuellerSchmidt_lowRes6d8a3629-scaled.j
 pg
CATEGORIES:Ausstellung
LOCATION:Museum Brandhorst\, Theresienstraße 35 a\, München\, 80333 \, De
 utschland
X-APPLE-STRUCTURED-LOCATION;VALUE=URI;X-ADDRESS=Theresienstraße 35 a\, Mü
 nchen\, 80333 \, Deutschland;X-APPLE-RADIUS=100;X-TITLE=Museum Brandhorst:
 geo:0,0
END:VEVENT
END:VCALENDAR