BEGIN:VCALENDAR
VERSION:2.0
PRODID:-//wp-events-plugin.com//7.2.3.1//EN
BEGIN:VEVENT
UID:55@forummuenchen.org
DTSTART:20211025T100000Z
DTEND:20211025T110000Z
DTSTAMP:20211019T114148Z
URL:https://forummuenchen.org/veranstaltungen/corinne-rufli/
SUMMARY:Lesung Corinne Rufli
DESCRIPTION:"Seit dieser Nacht war ich wie verzaubert"\nGeschichten von les
 bischen Frauen über siebzig.\nIn Zusammenarbeit mit Stadtbibliothek Münc
 hen und Münchenstift.
CATEGORIES:Lesung
LOCATION:Münchenstift Haus an der Rümannstraße\, Rümannstraße 60\, Mü
 nchen\, Bayern\, 80804\, Schwabing\, Deutschland
X-APPLE-STRUCTURED-LOCATION;VALUE=URI;X-ADDRESS=Rümannstraße 60\, Münche
 n\, Bayern\, 80804\, Schwabing\, Deutschland;X-APPLE-RADIUS=100;X-TITLE=M
 ünchenstift Haus an der Rümannstraße:geo:0,0
END:VEVENT
END:VCALENDAR