BEGIN:VCALENDAR
VERSION:2.0
PRODID:-//wp-events-plugin.com//7.2.3.1//EN
BEGIN:VEVENT
UID:90@forummuenchen.org
DTSTART;VALUE=DATE:20230622
DTEND;VALUE=DATE:20230729
DTSTAMP:20230613T181712Z
URL:https://forummuenchen.org/veranstaltungen/cosy-piero-philipp-gufler-lo
 ve-planets/
SUMMARY:Cosy Pièro &amp\; Philipp Gufler: LOVE PLANETS
DESCRIPTION:23.06.2023 — 28.07.2023\n\nERÖFFNUNG: DONNERSTAG 22. JUNI\,
  19 UHR\n\n"... In diesem intersektionalen Queering finden die heterogenen
  Oeuvres von Cosy Pièro und Philipp Gufler zusammen. So wie Pierós Arbei
 ten sich in den siebbedruckten Spiegeln von Gufler in der Ausstellung refl
 ektieren\, spiegelte ihr Schaffen auf Gufler als mehrere Generationen jün
 geren Künstler zurück. Anlässlich der in Kollaboration mit Ruine Münch
 en herausgegeben Publikation Cosy bei Cosy (2023)\, widmete er ihr eine Pe
 rformance samt Kostüm\, das in der Ausstellung zu sehen ist. Auf dem Gewa
 nd sind unter anderem Fotografien von Pièros Potenzial-Werkreihe bedruckt
 . In dieser buchstäblichen Zugewandtheit über räumliche und zeitliche D
 istanzen hinweg\, bildet sich der Zukunftsmoment der Ausstellung heraus: Q
 ueer Futurity überwindet hier den utopischen Modus. Es ist kein Ersehnen 
 einer queeren\, nicht greifbaren Zukunftsrealität\, sondern verwirklicht 
 sich durch L(i)ebe in Form einer transgenerationalen Solidarität und Refl
 exion zweier Künstler*innen."\n\n(aus dem Pressetext zur Ausstellung von 
 Mareike Schwarz)\n\nÖffnungszeiten Galerie Françoise Heitsch\nMittw. - F
 r. 14:00 - 19:00\nSa. 12:00 - 16:00\nund jederzeit nach Anmeldung per E-Ma
 il
ATTACH;FMTTYPE=image/jpeg:https://forummuenchen.org/wp-content/uploads/202
 3/06/IMG_4317.jpg
CATEGORIES:Ausstellung
LOCATION:Galerie Françoise Heitsch\, AMALIENSTR. 19\, München\, 80333\, D
 eutschland
X-APPLE-STRUCTURED-LOCATION;VALUE=URI;X-ADDRESS=AMALIENSTR. 19\, München\,
  80333\, Deutschland;X-APPLE-RADIUS=100;X-TITLE=Galerie Françoise Heitsch
 :geo:0,0
END:VEVENT
END:VCALENDAR