BEGIN:VCALENDAR
VERSION:2.0
PRODID:-//wp-events-plugin.com//7.2.3.1//EN
BEGIN:VEVENT
UID:68@forummuenchen.org
DTSTART:20220520T190000Z
DTEND:20220520T203000Z
DTSTAMP:20220510T142833Z
URL:https://forummuenchen.org/veranstaltungen/couch-interview-glockenbach-
 blues/
SUMMARY:Couch-Interview „Glockenbach-Blues“
DESCRIPTION:In Anlehnung an ihre frühere Szene-Kolumne "Glockenbachblues"\
 , unterhält sich Sarah Jäckel unter diesem Motto mit Vertreter*innen der
  Trans-Community über ihren Alltag als Transperson in München. Erwarten 
 Sie einen Abend mit Augenzwinkern und Ironie.\n\nSarah Jäckel war als Red
 akteurin\, Journalistin und Herausgeberin jahrelang für das Münchner LGB
 TIQ* Szenemagazin LEO tätig. Heute glücklich im Personalwesen\, hat sie 
 für Trans*München ihre Wurzeln in Grafik und Design aktiviert und die gr
 aphische Gestaltung der Plakate der Ausstellung sowie einiges an inhaltlic
 her Umsetzung übernommen.\n\nEine Veranstaltung im Rahmen der Ausstellung
  TransVision. Eintritt frei.\n\n&nbsp\;\n\n&nbsp\;\n\n&nbsp\;
CATEGORIES:Ausstellung,Talk
LOCATION:Amerikahaus\, Karolinenplatz 3\, 80333 München\, Deutschland
X-APPLE-STRUCTURED-LOCATION;VALUE=URI;X-ADDRESS=Karolinenplatz 3\, 80333 M
 ünchen\, Deutschland;X-APPLE-RADIUS=100;X-TITLE=Amerikahaus:geo:0,0
END:VEVENT
END:VCALENDAR