BEGIN:VCALENDAR
VERSION:2.0
PRODID:-//wp-events-plugin.com//7.2.3.1//EN
BEGIN:VEVENT
UID:89@forummuenchen.org
DTSTART:20230624T110000Z
DTEND:20230625T170000Z
DTSTAMP:20230523T151212Z
URL:https://forummuenchen.org/veranstaltungen/csd-muenchen/
SUMMARY:CSD München
DESCRIPTION:Das CSD-Straßenfest findet am 24./25. Juni 2023 statt. Auch di
 eses Jahr ist das Forum wieder mit einem Infostand vertreten. Die Infost
 ände auf dem Straßenfest befinden sich dieses Jahr in der Kaufinger-\, R
 osen-\, Wein- und Theatinerstraße.\n\nWeitere Informationen zu den Infost
 änden finden Sie hier.
ATTACH;FMTTYPE=image/jpeg:https://forummuenchen.org/wp-content/uploads/202
 3/05/slider2-neu042023.width-800.png
CATEGORIES:Veranstaltung
END:VEVENT
END:VCALENDAR