BEGIN:VCALENDAR
VERSION:2.0
PRODID:-//wp-events-plugin.com//7.2.3.1//EN
BEGIN:VEVENT
UID:101@forummuenchen.org
DTSTART:20240411T150000Z
DTEND:20240411T200000Z
DTSTAMP:20240409T100007Z
URL:https://forummuenchen.org/veranstaltungen/die-rueckkehr-der-namen/
SUMMARY:Die Rückkehr der Namen
DESCRIPTION:-  Ein BR Erinnerungsprojekt  -\nSetzt mit uns beim Projekttag 
 "Die Rückkehr der Namen" am 11. April ein deutliches Zeichen gegen jeglic
 he Form von Ausgrenzung und Rassismus. Steht ein für unsere freiheitlich-
  demokratische Grundordnung und unsere Menschenrechte: beim "Weg der Erinn
 erung" und der Abschlussveranstaltung auf dem Odeonsplatz. \n\n15 Uhr: 100
 0 Pat*innen informieren die Münchner*innen über die Schicksale der Verfo
 lgten und Ermordeten. Mit Erinnerungstafeln werden sie an Orten mit Bezug 
 zu deren Lebens- und Leidensgeschichten in der Münchner Innenstadt sichtb
 ar sein und den Verfolgten und Ermordeten wieder einen Platz im Stadtbild 
 geben. Das Forum wird dabei sieben verfolgte queere Menschen vertreten: Wi
 lhelm Manhardt\, Walter Menges\, Hans Max Müller\, Georg Bautler\, August
  Gänswein\, Georg Fischler\, Wilhelm Kaiser. Alle 1000 Mitwirkenden werde
 n dann in einem Sternmarsch zum Königsplatz marschieren\, wo sie um 17 Uh
 r zusammentreffen.\n\n17 Uhr: Pat*innen sowie interessierte Bürger*innen 
 gehen gemeinsam den "Weg der Erinnerung" vom Königsplatz über die Brienn
 er Straße bis zum Odeonsplatz. \n\n18 - 20 Uhr: Am Odeonsplatz gibt es f
 ür alle ein vielfältiges Kultur- und Informationsprogramm des Bayerische
 n Rundfunks und seiner Partner mit Musik\, Performances\, Zeitzeugeninterv
 iews und Filmen. 
CATEGORIES:Demonstration,Information,Kulturprogramm
LOCATION:Münchner Innenstadt und Odeonsplatz\, Brienner Str. 1\, München\
 , Bayern\, 80333\, Deutschland
X-APPLE-STRUCTURED-LOCATION;VALUE=URI;X-ADDRESS=Brienner Str. 1\, München\
 , Bayern\, 80333\, Deutschland;X-APPLE-RADIUS=100;X-TITLE=Münchner Innens
 tadt und Odeonsplatz:geo:0,0
END:VEVENT
END:VCALENDAR