BEGIN:VCALENDAR
VERSION:2.0
PRODID:-//wp-events-plugin.com//7.2.3.1//EN
BEGIN:VEVENT
UID:63@forummuenchen.org
DTSTART:20220503T190000Z
DTEND:20220503T210000Z
DTSTAMP:20220502T004921Z
URL:https://forummuenchen.org/veranstaltungen/double-feature-gendernauts-u
 nd-genderation-von-monika-treut/
SUMMARY:Double Feature "Gendernauts" und "Genderation" von Monika Treut
DESCRIPTION:Gendernauts (D 1999\, 86 Min.) – eine Reise durch das Land de
 r Neuen Geschlechter – erforscht das Phänomen von Transgender. Ort: San
  Francisco. Zeit: am Ende des zweiten Jahrtausends. Der Film zeigt Gender-
 Mixer und sexuelle Cyborgs\, die ihre Körper mit Hilfe neuer Technologien
  und Biochemie verändern und damit die Identität von männlich und weibl
 ich in Frage stellen. Auf die Frage: Sind Sie ein Mann oder eine Frau? ant
 worten die Gendernauten mit Ja.\n\nGendernauts stellt uns eine Gruppe fasz
 inierender Künstler in Kalifornien vor\, die zwischen den Polen herkömml
 icher Geschlechter-Identität leben. Wie die Kosmonauten durch das Weltall
  und die Cybernauten durch die Netzkultur\, so reisen die Gendernauten dur
 ch die vielfältigen Welten der Sexualität.\n\n(Film in englischer Sprach
 e mit deutschen Untertiteln)\n\nGenderation (D 2021\, 88 Min.) – über z
 wei Jahrzehnte nach Gendernauts (1999) kehrt Regisseurin Monika Treut nach
  Kalifornien zurück\, um die Protagonist*innen ihres bahnbrechenden queer
 en Filmklassikers wiederzutreffen. Sandy Stone\, Susan Stryker\, Stafford 
 und Max Wolf Valerio waren einst die jungen Pionier*innen der Transbewegun
 g und lebten fast alle in der damaligen Außenseitermetropole San Francisc
 o. Heute sind sie zwischen 58 und 84 Jahre alt\, und kaum eine*r kann es s
 ich noch leisten\, in der Stadt zu wohnen. Doch die Energie der Gendernaut
 en und ihrer Unterstützer*innen Annie Sprinkle und Beth Stephens ist unge
 brochen.\n\nWie hat sich ihr Leben verändert? Wie gehen sie als Bürgerre
 chts-Aktivist*innen mit der rechtskonservativen Politik um\, die die lange
  erkämpften Rechte der Minderheiten bedroht? Genderation wirft einen utop
 ischen Blick zurück und zeigt den kreativen Widerstand der Gendernauten g
 egen die bedrohlichen Lebensbedingungen in den US of A.\n\n(Film in englis
 cher Sprache mit deutschen Untertiteln)\n\nEinführung: Berti Gammenthaler
 \, Forum Queeres Archiv München\n\n&nbsp\;\n\nDie Veranstaltung ist Teil 
 von TransVision.
ATTACH;FMTTYPE=image/jpeg:https://forummuenchen.org/wp-content/uploads/202
 2/05/csm_2022-05-03_Stage_Gendernauts__c__Edition_Salzgeber_d308df2ed7.jpg
CATEGORIES:Filmvorführung
LOCATION:Amerikahaus\, Karolinenplatz 3\, 80333 München\, Deutschland
X-APPLE-STRUCTURED-LOCATION;VALUE=URI;X-ADDRESS=Karolinenplatz 3\, 80333 M
 ünchen\, Deutschland;X-APPLE-RADIUS=100;X-TITLE=Amerikahaus:geo:0,0
END:VEVENT
END:VCALENDAR