BEGIN:VCALENDAR
VERSION:2.0
PRODID:-//wp-events-plugin.com//7.2.3.1//EN
BEGIN:VEVENT
UID:65@forummuenchen.org
DTSTART:20220518T190000Z
DTEND:20220518T203000Z
DTSTAMP:20220502T005603Z
URL:https://forummuenchen.org/veranstaltungen/film-talk-carlas-wohnzimmer/
SUMMARY:Film &amp\; Talk: "Carlas Wohnzimmer"
DESCRIPTION:How has our view of gender changed since the early twentieth ce
 ntury? This film (D 2019\, 34 min.) aims to explore contemporary perspecti
 ves through interviews with trans* and non-binary people living in Berlin 
 today\, in which protagonists reflect on the past and connect to their liv
 ed experiences. Protagonists react to Dr. Magnus Hirschfeld’s “Psycho-
 biological Questionnaire” from 1925 (sixth edition)\, as well as excerpt
 s from the letters that the trans woman Carla Erskine sent to Dr. Harry Be
 njamin in the early 1950s. The interviews take place in a creatively reima
 gined staging of Louise Lawrence’s San Francisco living room\, where Car
 la took pictures of her friends to send to Benjamin for his research.\n\n(
 Film in German and English language with English subtitles)\n\nThe film is
  part of the exhibition TransTrans.\n\nProtagonists: Oska Melina Borcherdi
 ng\, Nora Eckert\, Cameron Eridan\, Sanni Est\, Frederik Olek Jurr\, Elba 
 Uwe Marlaine Mädger\, Veronika Pavlišin\, Nova B. Phoenix\, Nadja Schall
 enberg\, Anouk Schmitz\, Marty Stemme\n\nConcept: Annette F. Timm\, Sabrin
 a Rücker &amp\; Brian Andrew Hose\nProduction\, Interviews\, Camera\, Sou
 nd\, Editing: Sabrina Rücker &amp\; Brian Andrew Hose\nHistorical Consult
 ation: Annette F. Timm\, Rainer Herrn\, Michael Thomas Taylor &amp\; Alex 
 Bakker (LINK)\n\nThe producers and directors of Carlas Wohnzimmer\, Sabrin
 a Rücker and Brian Andrew Hose will offer an introduction to the film and
  answer questions from the audience after the screening.\n\nThe event is a
  part of TransVision.
ATTACH;FMTTYPE=image/jpeg:https://forummuenchen.org/wp-content/uploads/202
 2/05/2022-05-18_Carlas_Wohnzimmer_Behind_the_scenes__c__Sabrina_Ruecker.jp
 g
CATEGORIES:Filmvorführung
LOCATION:Amerikahaus\, Karolinenplatz 3\, 80333 München\, Deutschland
X-APPLE-STRUCTURED-LOCATION;VALUE=URI;X-ADDRESS=Karolinenplatz 3\, 80333 M
 ünchen\, Deutschland;X-APPLE-RADIUS=100;X-TITLE=Amerikahaus:geo:0,0
END:VEVENT
END:VCALENDAR