BEGIN:VCALENDAR
VERSION:2.0
PRODID:-//wp-events-plugin.com//7.2.3.1//EN
BEGIN:VEVENT
UID:44@forummuenchen.org
DTSTART:20200707T170000Z
DTEND:20200707T180000Z
DTSTAMP:20200702T084337Z
URL:https://forummuenchen.org/veranstaltungen/fuehrung-durchs-archiv-des-f
 orum-queeres-archiv-muenchen/
SUMMARY:Führung (1) durchs Archiv des Forum Queeres Archiv München
DESCRIPTION:Über 3.350 Bücher\, mehr als 200 Zeitschriftentitel\, außerd
 em Poster\, Flyer\, DVDs\, T-Shirts\, Buttons und\, und\, und ... das Arch
 iv des forum hat viel zu bieten! Im Rahmen der PrideWeek führen wir durch
  unsere Räume\, stellen die gesammelten Materialien aus dem queeren Leben
  der letzten Jahrzehnte vor und freuen uns über interessante Gespräche.\
 nAchtung: Begrenzte Teilnehmer*innenzahl - pro Führung können nur 5 Pers
 onen teilnehmen!\nBitte um vorherige Anmeldung unter: info@forummuenchen.o
 rg oder 089/23269794\n\n&nbsp\;
LOCATION:Forum Queeres Archiv München e.V.\, Bayerstr. 77a RGB III (leider
  nicht barrierefrei)\, 80335 München\, Deutschland
X-APPLE-STRUCTURED-LOCATION;VALUE=URI;X-ADDRESS=Bayerstr. 77a RGB III (leid
 er nicht barrierefrei)\, 80335 München\, Deutschland;X-APPLE-RADIUS=100;X
 -TITLE=Forum Queeres Archiv München e.V.:geo:0,0
END:VEVENT
END:VCALENDAR