BEGIN:VCALENDAR
VERSION:2.0
PRODID:-//wp-events-plugin.com//7.2.3.1//EN
BEGIN:VEVENT
UID:111@forummuenchen.org
DTSTART:20241020T200000Z
DTEND:20241020T210000Z
DTSTAMP:20241010T141756Z
URL:https://forummuenchen.org/veranstaltungen/gedenkveranstaltung-zum-90-j
 ahrestag-der-razzia-gegen-homosexuelle/
SUMMARY:Gedenkveranstaltung zum 90. Jahrestag der Razzia gegen Homosexuelle
DESCRIPTION:Am 20. Oktober 1934 fand die erste große antihomosexuelle Razz
 ia der Nationalsozialisten statt. Zum 90. Jahrestag dieser Razzia gegen Ho
 mosexuelle findet am 20. Oktober eine öffentliche Gedenkveranstaltung am 
 „Mahnmal für die im Nationalsozialismus verfolgten Lesben und Schwulen
 “ in der Dultstraße/Ecke Oberanger statt. An dieser Stelle befand sich 
 damals das von der Razzia betroffe Gasthaus Schwarzfischer\, einem bekannt
 en Treffpunkt für schwule Männer zur damaligen Zeit.\nDie Gedenkveransta
 ltung wird organisiert vom Forum Queeren Archiv München\, der Wähler*inn
 eninitative Rosa Liste und der Koordinierungsstelle zur Gleichstellung von
  LGBTIQ*\, in Zusammenarbeit mit diversity München.\nWährend der Gedenkv
 eranstaltung werden Biografien von Ofern des NS-Regimes verlesen. Im Ansch
 luss gibt es einen Gedenkzug mit Kerzen zum diversity Café\, wo wir den A
 bend gemeinsam ausklingen lassen können.\n\n
CATEGORIES:Demonstration,Veranstaltung
LOCATION:Mahnmal / Bodendenkmal\, Oberanger / Ecke Dultstraße\, München\,
  80331\, Deutschland
X-APPLE-STRUCTURED-LOCATION;VALUE=URI;X-ADDRESS=Oberanger / Ecke Dultstraß
 e\, München\, 80331\, Deutschland;X-APPLE-RADIUS=100;X-TITLE=Mahnmal / Bo
 dendenkmal:geo:0,0
END:VEVENT
END:VCALENDAR