BEGIN:VCALENDAR
VERSION:2.0
PRODID:-//wp-events-plugin.com//7.2.3.1//EN
BEGIN:VEVENT
UID:69@forummuenchen.org
DTSTART:20220713T193000Z
DTEND:20220713T203000Z
DTSTAMP:20220528T222219Z
URL:https://forummuenchen.org/veranstaltungen/geschichte-der-hag/
SUMMARY:Geschichte der HAG
DESCRIPTION:Im vergangenen November haben wir die Gründung der HAG vor 50 
 Jahren gefeiert. Die spontihafte Gruppe war vom Experimentieren\, Scheiter
 n und Neuanfang geprägt. Dadurch schuf sie pionierhaft queere Aktionsform
 en\, die für uns heute selbstverständlich sind. Auch der Beitrag von Les
 ben zu dieser Pionierarbeit wird im lebendigen Vortrag gewürdigt\, dem si
 ch eine Gesprächsrunde anschließt. Referent ist Wolfgang Scheel\, Vorsta
 ndsmitglied der Rosa Liste und Mitarbeiter im Forum Queeres Archiv Münche
 n.
ATTACH;FMTTYPE=image/jpeg:https://forummuenchen.org/wp-content/uploads/202
 1/11/TITEL_Splitter-18.jpg
CATEGORIES:Lesung
LOCATION:Sub - Schwules Kommunikations- und Kulturzentrum\, Müllerstraße 
 14\, München \, 80469\, Deutschland
X-APPLE-STRUCTURED-LOCATION;VALUE=URI;X-ADDRESS=Müllerstraße 14\, Münche
 n \, 80469\, Deutschland;X-APPLE-RADIUS=100;X-TITLE=Sub - Schwules Kommuni
 kations- und Kulturzentrum:geo:0,0
END:VEVENT
END:VCALENDAR