BEGIN:VCALENDAR
VERSION:2.0
PRODID:-//wp-events-plugin.com//7.2.3.1//EN
BEGIN:VEVENT
UID:28@forummuenchen.org
DTSTART:20180311T160000Z
DTEND:20180311T180000Z
DTSTAMP:20200527T155635Z
URL:https://forummuenchen.org/veranstaltungen/intergenerationale-lesbische
 -lesung/
SUMMARY:Intergenerationale lesbische Lesung
DESCRIPTION:\nWeltfrauentag 2018 "Macht es öffentlich!" Intergenerational
 e lesbische Lesung und Austausch zu lesbischem Leben in München Im Buch 
 „Zwischen Nachkriegsfrust und Aufbruchslust…“ schildern sieben Lesbe
 n der Jahrgänge 1930 bis 1941 ihr Leben in der Nachkriegszeit und währen
 d der Frauen-Lesbenbewegung in München und der damaligen BRD.\n
ATTACH;FMTTYPE=image/jpeg:https://forummuenchen.org/wp-content/uploads/202
 0/04/Cover-Schfer-001.jpg
LOCATION:LeTRa Zentrum\, Angertorstr. 3\, München\, Deutschland
X-APPLE-STRUCTURED-LOCATION;VALUE=URI;X-ADDRESS=Angertorstr. 3\, München\,
  Deutschland;X-APPLE-RADIUS=100;X-TITLE=LeTRa Zentrum:geo:0,0
END:VEVENT
END:VCALENDAR