BEGIN:VCALENDAR
VERSION:2.0
PRODID:-//wp-events-plugin.com//7.2.3.1//EN
BEGIN:VEVENT
UID:117@forummuenchen.org
DTSTART:20250510T180000Z
DTEND:20250510T200000Z
DTSTAMP:20250429T091422Z
URL:https://forummuenchen.org/veranstaltungen/ipp-institut-fuer-praxisfors
 chung-und-projektberatung-und-forum-queeres-archiv-muenchen-e-v-praesentie
 ren-die-studie-solidarisches-schweigen-umgang-mit-paedosexuellen-diskursen
 -und-aktivi/
SUMMARY:IPP - Institut für Praxisforschung und Projektberatung und Forum Q
 ueeres Archiv München e.V. präsentieren die Studie „Solidarisches Schw
 eigen: Umgang mit pädosexuellen Diskursen und Aktivisten im Forum Queeres
  Archiv München“
DESCRIPTION:Seit etwa 2010 werden aufgrund des Bekanntwerdens von Kindesmis
 sbrauch in Institutionen wie Schulen\, Kirchen und Sportvereinen verstärk
 t Aufarbeitungsbemühungen von Betroffenen und Politik eingefordert und du
 rchgeführt. Sie befassen sich mit aktiver sexualisierter Gewalt\, aber au
 ch deren Kaschierung\, Duldung oder Propagierung in institutionellen Konte
 xten sowie dem Umgang mit Betroffenen\, Entschädigungs- und Präventionsm
 aßnahmen.\nAuch beim Forum Queeres Archiv München e.V. (FQAM) eröffnete
 n sich in den vergangenen Jahren bezüglich pädosexueller Diskurse und Pe
 rsonen Konfliktlinien. \nLetztlich entschloss sich das FQAM\, finanziell v
 on der Landeshauptstadt München durch einen Beitrag von 50.000 Euro unter
 stützt\, das Thema vom Institut für Praxisforschung und Projektberatung 
 (IPP)\, München\, untersuchen zu lassen. Die Studie wurde zwischen Januar
  2024 und März 2025 durchgeführt. Wir möchten die gewonnenen Erkenntnis
 se der wissenschaftlichen Studie nutzen\, um den Diskurs innerhalb der que
 eren Community Münchens anzuregen. Die Anerkennung Betroffener sexualisie
 rter Gewalt in der Münchner queeren Szene soll durch transparente Kommuni
 kation\, öffentliche Veranstaltungen und die Zusammenarbeit mit anderen E
 inrichtungen gestärkt werden. Wir möchten mit der kontinuierlichen Aufar
 beitung vor allem für die uneingeschränkte Solidarität mit den Betroffe
 nen sexualisierter Gewalt eintreten.\nDeshalb möchten wir Euch zur Präse
 ntation der Ergebnisse und zur Diskussion darüber einladen.\n\nDie Studie
  steht ab sofort auf der Website von IPP zum Download bereit:\n\n\n
CATEGORIES:Gespräch,Information,Talk
LOCATION:Sub - Schwules Kommunikations- und Kulturzentrum\, Müllerstraße 
 14\, München \, 80469\, Deutschland
X-APPLE-STRUCTURED-LOCATION;VALUE=URI;X-ADDRESS=Müllerstraße 14\, Münche
 n \, 80469\, Deutschland;X-APPLE-RADIUS=100;X-TITLE=Sub - Schwules Kommuni
 kations- und Kulturzentrum:geo:0,0
END:VEVENT
END:VCALENDAR