BEGIN:VCALENDAR
VERSION:2.0
PRODID:-//wp-events-plugin.com//7.2.3.1//EN
BEGIN:VEVENT
UID:110@forummuenchen.org
DTSTART:20241019T100000Z
DTEND:20241019T170000Z
DTSTAMP:20241010T141412Z
URL:https://forummuenchen.org/veranstaltungen/jahrestagung-fhg-vortraege/
SUMMARY:Vorträge - FHG Jahrestagung
DESCRIPTION:                    \n\nDie Jahrestagung des FHG - Fachverband 
 für Homosexualität und Geschichte - wird in diesem Jahr vom Forum Queere
 s Archiv München ausgerichtet.\nAm 19. Oktober finden dazu ganztägig Vor
 träge im NS-Dokuzentrum München statt (Vortragsraum im obersten Stock). 
 \nDas Forum lädt alle Interessierten dazu ein. Die Vorträge können auch
  einzeln besucht werden. \n- Bitte beim Empfang des NS-Dokuzentrums mittei
 len\, dass Ihr zur FHG-Tagung möchtet. -\n\nProgramm:\n10:00 Uhr:   Begr
 üßung durch Forum und FHG\n10:15-11:00: Kai* Brunst: Trans Personen unte
 r der NS-Herrschaft\n11:10-11:55: Kirsten Plötz: Familienrecht als Bedroh
 ung: Sorgerechtsentzug in NRW 1946 -2000\n12:10-12:50: 60 Jahre schwule Le
 der-/Fetischszene. Gespräch mit Gottfried Lorenz und Thomas Tetzner als A
 utoren aktueller Studien\n12:50-13:50: Mittagspause\n13:50-14:35: Andreas 
 Pretzel: Neuere Berliner Bi+ Geschichte: Vernetzungen und Netzwerke Beitra
 g zur Geschichte der Bisexuellenbewegung\n14:45-15:30: Noah Munier: 100 Ja
 hre geschlechterdivers in Baden-Württemberg?! Lebenswelten und Verfolgung
 sschicksale von transgender\, trans- und intersexuellen Menschen im deutsc
 hen Südwesten (1920-2020)\n16:00-17:00: Umgang mit Archivalien und Umgang
  mit Pädosexualität: Positionen und Vorgehensweise des Forum Queeres Arc
 hiv München\n17:00 Uhr:   Abschluss. \nModeration: Elena Barta\, Karl-Hei
 nz Steinle\n\nEintritt frei!\n
CATEGORIES:Vortrag
LOCATION:NS-Dokumentationszentrum München\, Max-Mannheimer-Platz 1\, 80333
  München\, Deutschland
X-APPLE-STRUCTURED-LOCATION;VALUE=URI;X-ADDRESS=Max-Mannheimer-Platz 1\, 80
 333 München\, Deutschland;X-APPLE-RADIUS=100;X-TITLE=NS-Dokumentationszen
 trum München:geo:0,0
END:VEVENT
END:VCALENDAR