BEGIN:VCALENDAR
VERSION:2.0
PRODID:-//wp-events-plugin.com//7.2.3.1//EN
BEGIN:VEVENT
UID:121@forummuenchen.org
DTSTART:20250828T190000Z
DTEND:20250828T200000Z
DTSTAMP:20250828T093156Z
URL:https://forummuenchen.org/veranstaltungen/karl-heinrich-ulrichs-der-pi
 onier-der-queeren-bewegung-feiert-200-geburtstag/
SUMMARY:Karl Heinrich Ulrichs - Der Pionier der queeren Bewegung feiert 200
 . Geburtstag!
DESCRIPTION:\n-&gt\; Aktuelle Meldung: Wegen schlechtem Wetter findet die V
 eranstaltung im Sub\, Müllerstr. 14\, statt. \nEinlaß: 19:oo Uhr / Begin
 n: 19:30 Uhr\n\nKrank oder von der Schöpfung so gewollt? Ulrichs\, ein Ju
 rist\, war der Erste\, der sich mit dem Wesen der gleichgeschlechtlichen L
 iebe auseinandersetzte. Und er war der Erste\, der sich offen dazu bekannt
 e.\n\n1867 kam er nach München mit einem Manuskript\, in dem er Straffrei
 heit für Sex zwischen Männern forderte. Die Ablehnung und die Vorurteile
 \, auf die er stieß\, begegnen uns heute wieder.   \n\nDas Forum Queeres 
 Archiv München lädt zum Geburtstag des mutigen Juristen ein. Seine fulmi
 nante Rede wird in einem Re-Enectment präsentiert und gewährt einen Einb
 lick in sein Leben. Wir treffen uns pünktlich zu seinem Geburtstag am Kar
 l-Heinrich-Ulrichs-Platz\, mitten im Glockenbachviertel.\n
ATTACH;FMTTYPE=image/jpeg:https://forummuenchen.org/wp-content/uploads/202
 5/07/Ulrichs-Karl-Heinrich-scaled-e1753966787249.jpg
CATEGORIES:Information,Kulturprogramm,Veranstaltung
LOCATION:Karl-Heinrich-Ulrichs-Platz\, Am Glockenbach\, München\, Deutschl
 and
X-APPLE-STRUCTURED-LOCATION;VALUE=URI;X-ADDRESS=Am Glockenbach\, München\,
  Deutschland;X-APPLE-RADIUS=100;X-TITLE=Karl-Heinrich-Ulrichs-Platz:geo:0,
 0
END:VEVENT
END:VCALENDAR