BEGIN:VCALENDAR
VERSION:2.0
PRODID:-//wp-events-plugin.com//7.2.3.1//EN
BEGIN:VEVENT
UID:24@forummuenchen.org
DTSTART:20190214T210000Z
DTEND:20190214T230000Z
DTSTAMP:20200531T194535Z
URL:https://forummuenchen.org/veranstaltungen/kuenstlergespraech-i-wanna-g
 ive-you-devotion/
SUMMARY:Künstlergespräch "I Wanna Give You Devotion"
DESCRIPTION:„Jäcki möchte kein Eindringling im Archiv sein.\n– Alles 
 nachfühlen\, nicht nur recherchieren.\n– Kann ich so lange bleiben\, bi
 s ich alles durchlebt habe?“\n\n
ATTACH;FMTTYPE=image/jpeg:https://forummuenchen.org/wp-content/uploads/202
 0/05/Gufler_19-scaled.jpg
LOCATION:Pogo Bar KW Institute for Contemporary Art\, Auguststraße 69\, Be
 rlin\, 10117\, Deutschland
X-APPLE-STRUCTURED-LOCATION;VALUE=URI;X-ADDRESS=Auguststraße 69\, Berlin\,
  10117\, Deutschland;X-APPLE-RADIUS=100;X-TITLE=Pogo Bar KW Institute for 
 Contemporary Art:geo:0,0
END:VEVENT
END:VCALENDAR