BEGIN:VCALENDAR
VERSION:2.0
PRODID:-//wp-events-plugin.com//7.2.3.1//EN
BEGIN:VEVENT
UID:116@forummuenchen.org
DTSTART:20250426T183000Z
DTEND:20250426T210000Z
DTSTAMP:20250408T153736Z
URL:https://forummuenchen.org/veranstaltungen/laesbisch-tv-aus-berlin-1991
 -1993-das-erste-lesbische-fernsehmagazin-auf-diesem-planeten/
SUMMARY:LÄSBISCH-TV  aus Berlin  1991-1993. Das erste lesbische Fernsehmag
 azin auf diesem Planeten!
DESCRIPTION:Mehr als 100 lesbische Frauen beteiligten sich an der Herstellu
 ng des einstündigen monatlichen (im ersten Halbjahr 14tägigen) Sendung: 
 LÄSBISCH-TV (LTV)\, das Erste Lesbische Fernsehmagazin auf diesem Planete
 n: vom 11. April 1991 bis 15. Mai 1993 mit 27 Sendungen und einer Einschal
 tquote bis zu 350.000 Zuschauer*innen auf Kabelsender: FAB (Fernsehn aus B
 erlin).\n26 Jahre lang lagerten die Masterbänder bei der Gründerin und K
 ulturvermittlerin Mahide und wurden Dank der Bundes Stiftung Magnus Hirsch
 feld endlich katalogisiert &amp\; digitalisiert und wandern in LGBTQI- &am
 p\; Frauen-Archive als Fundament eines Nachschlagewerkes für Wissenschaft
 lerInnen und andere NutzerInnen.\n2018 erstellten Mahide Lein &amp\; Doro 
 Etzler einen Zusammenschnitt aus all den Sendungen -  Best of LÄSBISCH-TV
  Best-Of 1991-1993 (101Min).\nZur Filmvorführung im LeZ konnten wir Mahid
 e Lein nach München einladen. Sie wird die Filmvorführung mit Geschichte
 n aus dieser legendären Zeit begleiten. \nWeitere Infos zu LäsbischTV.
ATTACH;FMTTYPE=image/jpeg:https://forummuenchen.org/wp-content/uploads/202
 5/04/LAeSBISCH-TV_Logo-e1744126383372.jpg
CATEGORIES:Filmvorführung,Gespräch,Veranstaltung
LOCATION:Lez - lesbisch-queeres Zentrum München\, Müllerstraße 26\, 8046
 9 München\, Deutschland
X-APPLE-STRUCTURED-LOCATION;VALUE=URI;X-ADDRESS=Müllerstraße 26\, 80469 M
 ünchen\, Deutschland;X-APPLE-RADIUS=100;X-TITLE=Lez - lesbisch-queeres Ze
 ntrum München:geo:0,0
END:VEVENT
END:VCALENDAR