BEGIN:VCALENDAR
VERSION:2.0
PRODID:-//wp-events-plugin.com//7.2.3.1//EN
BEGIN:VEVENT
UID:125@forummuenchen.org
DTSTART:20251121T190000Z
DTEND:20251121T210000Z
DTSTAMP:20251106T115047Z
URL:https://forummuenchen.org/veranstaltungen/lesung-queer-im-dorf-heimat-
 oder-widerstand/
SUMMARY:Lesung - Queer im Dorf: Heimat oder Widerstand?
DESCRIPTION:Die Frage nach Identität stellt sich jedem Menschen\, doch fü
 r queere Menschen gewinnt sie oft eine besondere Schärfe\, insbesondere i
 n ländlichen Räumen. Während in städtischen Kontexten Diversität sich
 tbarer und institutionell stärker verankert ist\, erscheinen Dörfer viel
 fach als Orte\, in denen Tradition und soziale Kontrolle dominieren.\n\nIn
  einem Dorf kennt man sich – man weiß\, wer wo wohnt\, wer zu wem gehö
 rt. Aber es gibt auch Dinge\, die oft nicht sichtbar sind. Dazu gehört au
 ch die LGBTI-Community.\n\nViele Menschen\, die zu ihr gehören\, sind da 
 – doch sie bleiben im Hintergrund\, weil es schwer sein kann\, offen und
  selbstverständlich dazu zu stehen. Gerade im Dorf\, wo Nähe und Gemeins
 chaft großgeschrieben werden\, fehlt manchmal der Raum\, Vielfalt sichtba
 r zu leben.\n\nMit den heutigen Geschichten möchten wir genau darauf aufm
 erksam machen: dass Sichtbarkeit wichtig ist – damit jede und jeder sein
 en Platz in der Dorfgemeinschaft haben kann.\n\n
CATEGORIES:Lesung
LOCATION:Lez - lesbisch-queeres Zentrum München\, Müllerstraße 26\, 8046
 9 München\, Deutschland
X-APPLE-STRUCTURED-LOCATION;VALUE=URI;X-ADDRESS=Müllerstraße 26\, 80469 M
 ünchen\, Deutschland;X-APPLE-RADIUS=100;X-TITLE=Lez - lesbisch-queeres Ze
 ntrum München:geo:0,0
END:VEVENT
END:VCALENDAR