BEGIN:VCALENDAR
VERSION:2.0
PRODID:-//wp-events-plugin.com//7.2.3.1//EN
BEGIN:VEVENT
UID:127@forummuenchen.org
DTSTART:20251212T190000Z
DTEND:20251212T210000Z
DTSTAMP:20251119T163904Z
URL:https://forummuenchen.org/veranstaltungen/lesung-zu-christa-reinig/
SUMMARY:Lesung zu Christa Reinig
DESCRIPTION:Die vielfach preisgekrönte lesbische Schriftstellerin Christa 
 Reinig lebte von Mitte der 60er bis zu ihrem Tod 2008 in München. Wir\, e
 ine Gruppe aus dem Forum Queeres Archiv München e.V.  - LesBiSchwulTransI
 nter* in Geschichte und Kultur\, wollen mit einer Lesung aus ihren Werken 
 samt ein paar Anmerkungen zu ihrem Leben an sie erinnern. Spaß inbegriffe
 n\, denn Christa Reinig war zuweilen sehr lustig. Lasst Euch überraschen!
 \n\n\n\n
CATEGORIES:Lesung
LOCATION:Lez - lesbisch-queeres Zentrum München\, Müllerstraße 26\, 8046
 9 München\, Deutschland
X-APPLE-STRUCTURED-LOCATION;VALUE=URI;X-ADDRESS=Müllerstraße 26\, 80469 M
 ünchen\, Deutschland;X-APPLE-RADIUS=100;X-TITLE=Lez - lesbisch-queeres Ze
 ntrum München:geo:0,0
END:VEVENT
END:VCALENDAR