BEGIN:VCALENDAR
VERSION:2.0
PRODID:-//wp-events-plugin.com//7.2.3.1//EN
BEGIN:VEVENT
UID:82@forummuenchen.org
DTSTART:20230131T190000Z
DTEND:20230131T210000Z
DTSTAMP:20230123T082342Z
URL:https://forummuenchen.org/veranstaltungen/literarischer-abend-mit-eine
 r-lesung-aus-den-schriften-von-klaus-sigl-gustl-angstmann-gedenkveranstalt
 ung/
SUMMARY:Literarischer Abend mit einer Lesung aus den Schriften von Klaus Si
 gl (Gustl-Angstmann-Gedenkveranstaltung)
DESCRIPTION:Klaus Sigl (1945-2015) war im November 1971 Mitgründer der ers
 ten Homosexuellenorganisation in München. Jahrelang war er wichtiger Impu
 lsgeber für eine schwule Bewegung in München. Sein literarischer Nachlas
 s gibt einen spannenden Einblick in sein zeitkritisches\, poetisches\, abe
 r auch immer recht humorvolles und erotisches Experimentieren mit Sprache 
 und Dialekt. Zwei Wegbegleiter Sigls\, Barbara Bauer und Daniel Fürst ste
 llen Auszüge aus seinen Gedichten\, Collagen und Tagebüchern vor\, Alber
 t Knoll beschreibt den historischen Rahmen\, in dem Klaus Sigls Werk entst
 anden ist.\n\nBei Interesse bitte anmelden\, unter: info@forummuenchen.org
 \n\nDie Veranstaltung wird aufgezeichnet.
ATTACH;FMTTYPE=image/jpeg:https://forummuenchen.org/wp-content/uploads/202
 3/01/Klaus-Sigl.jpg
CATEGORIES:Lesung
LOCATION:Forum Queeres Archiv München e.V.\, Bayerstr. 77c Rgb. (leider ni
 cht barrierefrei)\, München\, 80335\, Bayern\, Deutschland
X-APPLE-STRUCTURED-LOCATION;VALUE=URI;X-ADDRESS=Bayerstr. 77c Rgb. (leider 
 nicht barrierefrei)\, München\, 80335\, Bayern\, Deutschland;X-APPLE-RADI
 US=100;X-TITLE=Forum Queeres Archiv München e.V.:geo:0,0
END:VEVENT
END:VCALENDAR