BEGIN:VCALENDAR
VERSION:2.0
PRODID:-//wp-events-plugin.com//7.2.3.1//EN
BEGIN:VEVENT
UID:5@forummuenchen.org
DTSTART:20191002T190000Z
DTEND:20191002T220000Z
DTSTAMP:20200416T085259Z
URL:https://forummuenchen.org/veranstaltungen/lorenza-boettner-ein-gesprae
 ch-mit-irene-boettner-und-viktor-neumann/
SUMMARY:Lorenza Böttner: ein Gespräch mit Irene Böttner und Viktor Neuma
 nn
DESCRIPTION:Die Künstlerin Lorenza Böttner arbeitete interdisziplinär: I
 n ihren Selbstporträts\, Fotografien\, Zeichnungen\, Installationen und P
 erformances „widersetzt sie sich den Prozessen der Entsubjektivierung u
 nd Entsexualisierung\, dem Wegsperren und Unsichtbarmachen von funktional 
 andersartigen und Transgenderkörpern“ (aus dem Ankündigungstext des W
 ürttembergischen Kunstvereins). Nachdem eine kleine Auswahl von Lorenza B
 öttners Arbeiten auf der documenta 14 gezeigt wurde\, organisierte der Ph
 ilosoph Paul B. Preciado in Zusammenarbeit mit Viktor Neumann eine erste u
 mfassende Retrospektive ihrer Werke\, die 2018 in Barcelona und 2019 in St
 uttgart zu sehen war. Böttners künstlerische Arbeit ist eng mit ihrer Bi
 ografie verwoben. Lorenza Böttner wurde 1956 als Ernst Lorenz Böttner in
  Chile geboren. Mit acht Jahren erlitt sie einen schweren Unfall\, durch d
 en sie beide Arme verlor. Daraufhin zog sie mit ihrer deutschsprachigen Mu
 tter nach Deutschland und wurde zusammen mit contergangeschädigten Kinder
 n eingeschult. Nach ihrem Studium an der Gesamthochschule (heute Kunsthoch
 schule) Kassel lebte sie in Barcelona\, New York und in München\, wo noch
  heute ihre Mutter Irene wohnt. 1994 starb Lorenza Böttner an einer HIV-b
 edingten Krankheit.\n\nNach einer Einführung in Böttners Arbeit durch de
 n Kunsthistoriker Viktor Neumann findet ein Gespräch über die Künstleri
 n und ihr Leben in München statt. Das Gespräch wird geführt von Irene B
 öttner\, Viktor Neumann und dem Künstler Philipp Gufler (forum homosexua
 lität münchen e.V.).\n\nEintritt frei\n\nAbbildung: Lorenza Böttner\, O
 hne Titel (undatiert)\, Pastellkreide auf Papier\, 137 x 170 cm\;
ATTACH;FMTTYPE=image/jpeg:https://forummuenchen.org/wp-content/uploads/202
 0/04/62-_MG_9250-scaled.jpg
LOCATION:lothringer13_florida\, Lothringer Str. 13\, München\, Deutschland
X-APPLE-STRUCTURED-LOCATION;VALUE=URI;X-ADDRESS=Lothringer Str. 13\, Münch
 en\, Deutschland;X-APPLE-RADIUS=100;X-TITLE=lothringer13_florida:geo:0,0
END:VEVENT
END:VCALENDAR