BEGIN:VCALENDAR
VERSION:2.0
PRODID:-//wp-events-plugin.com//7.2.3.1//EN
BEGIN:VEVENT
UID:40@forummuenchen.org
DTSTART;VALUE=DATE:20150821
DTEND;VALUE=DATE:20150823
DTSTAMP:20200616T122822Z
URL:https://forummuenchen.org/veranstaltungen/moby-dyke-temporaere-bar-von
 -richard-john-jones/
SUMMARY:"Moby Dyke"\, Temporäre Bar von Richard John Jones
DESCRIPTION:Die temporäre Bar "Moby Dyke" ist Teil des Projekt I m/e m/y v
 on Richard John Jones. Sie findet am 21./22. August 2015 im Lothringer13_F
 LORIDA statt.\n\n\nYou are invited to the opening and closing events of th
 e Moby Dyke - a temporary lesbian bar in Munich. Arising out of a concern 
 with the loss of women's and gay lesbian social spaces in Munich and acros
 s Europe - the Moby Dyke emerges as part of an artistic residency by Richa
 rd John Jones and is hosted by the committee of Lothringer 13 Florida (Ma
 ximiliane Baumgartner\, Philipp Gufler\, Fabian Hesse\, Ruth Höflich).\n\
 nFriday 21st August -7pm – late\nOPENING PARTY\nwith music selected by
 …\n\nIRENE REVELL (Electra)\nMARIA CINCOTTA (Rock Camp)\nGIRLS LIKE US M
 AGAZINE\n\nCocktails – Punch\nWOW!!!!\n\n&nbsp\;\n\nSaturday 22nd August
  - 6pm - late\n\n...artist Cosy Pièro accompanied by Meike Illig...\nLIVE
  7PM: COSY PIÈRO\n...also featururing the\nTHE POWER LESBIANS\n
ATTACH;FMTTYPE=image/jpeg:https://forummuenchen.org/wp-content/uploads/202
 0/05/flyer_mobydyke-scaled.jpg
LOCATION:Lothringer13_Florida\, Lothringerstr. 13\, RGB\, München\, 81667\
 , Deutschland
X-APPLE-STRUCTURED-LOCATION;VALUE=URI;X-ADDRESS=Lothringerstr. 13\, RGB\, M
 ünchen\, 81667\, Deutschland;X-APPLE-RADIUS=100;X-TITLE=Lothringer13_Flor
 ida:geo:0,0
END:VEVENT
END:VCALENDAR