BEGIN:VCALENDAR
VERSION:2.0
PRODID:-//wp-events-plugin.com//7.2.3.1//EN
BEGIN:VEVENT
UID:66@forummuenchen.org
DTSTART:20220531T190000Z
DTEND:20220531T203000Z
DTSTAMP:20220502T005824Z
URL:https://forummuenchen.org/veranstaltungen/nora-eckert-wie-alle-nur-and
 ers-ein-transsexuelles-leben-in-berlin/
SUMMARY:Nora Eckert: "Wie alle\, nur anders. Ein transsexuelles Leben in Be
 rlin."
DESCRIPTION:Mit großer Selbstverständlichkeit\, Witz und Lakonie erzählt
  Nora Eckert von ihrem Geschlechterwechsel: Ein Neunzehnjähriger zieht 19
 73 nach West-Berlin\, um der Bundeswehr zu entgehen. Sofort verfällt er d
 em rauen Charme der heruntergekommenen Halbstadt. Vor allem aber begreift 
 der vermeintlich schwule Mann\, dass er transsexuell ist.\n\nUm die sein z
 u können\, die sie ist\, heuert er im Chez Romy Haag an\, dem damals beka
 nntesten Travestieclub Europas. Nicht nur David Bowie geht dort ein und au
 s. Und alle\, die diesen Club betreten\, müssen nun an Nora Eckert vorbei
 \, der Garderobiere in dem kleinen Etablissement in Berlin-Schöneberg.\n\
 nNora Eckert erzählt von den schmerzhaften und beglückenden Erfahrungen\
 , vom anfänglichen Spießrutenlauf beim Kleiderkauf über die Selbstbehan
 dlung mit Hormonen bis zum Glücksgefühl\, eine „dritte Möglichkeit“
  zu leben. Sie berichtet von dem demütigenden Begutachtungsprozess\, dem 
 sie sich unterziehen musste\, um auch „offiziell“ eine Frau zu sein. V
 om Berliner Arbeitsamt zur Stenokontoristin umgeschult\, kehrt Nora Eckert
  1982 in die bürgerliche Welt zurück.\n\nNun stürzt sie sich in das hoc
 hkulturelle Nachtleben der Stadt: Theater\, Oper\, Konzerte. Die „Schrei
 bdame“ ohne Abitur fängt Mitte der 1980er Jahre selbst zu schreiben an 
 und wird im Nebenberuf eine vielbeschäftigte Opernkritikerin. Die Bühne\
 , auf der sich all dies vollzieht\, ist die zweite Heldin dieses Buches\, 
 das nicht zuletzt eine große Liebeserklärung ist an das wilde\, hedonist
 ische West-Berlin.\n\nDas Gespräch mit Nora Eckert führt Dr. Rainer Herr
 n\, Kurator der Ausstellung TransTrans – Transatlantic Transgender Histo
 ries.\n\nDie Veranstaltung ist Teil von TransVision.
ATTACH;FMTTYPE=image/jpeg:https://forummuenchen.org/wp-content/uploads/202
 2/05/2022-05-31_Foto_Nora_Eckert__c__privat.jpg
CATEGORIES:Vortrag
LOCATION:Amerikahaus\, Karolinenplatz 3\, 80333 München\, Deutschland
X-APPLE-STRUCTURED-LOCATION;VALUE=URI;X-ADDRESS=Karolinenplatz 3\, 80333 M
 ünchen\, Deutschland;X-APPLE-RADIUS=100;X-TITLE=Amerikahaus:geo:0,0
END:VEVENT
END:VCALENDAR