BEGIN:VCALENDAR
VERSION:2.0
PRODID:-//wp-events-plugin.com//7.2.3.1//EN
BEGIN:VEVENT
UID:92@forummuenchen.org
DTSTART;VALUE=DATE:20230908
DTEND;VALUE=DATE:20231113
DTSTAMP:20230813T164131Z
URL:https://forummuenchen.org/veranstaltungen/on-listening/
SUMMARY:On Listening
DESCRIPTION:\n07.09.23\, 19 Uhr: Eröffnung im Rahmen von Various Others 20
 23\n\n\nAshley Holmes\, Forum Queeres Archiv München e.V. &amp\; Philipp 
 Gufler\, Helen Cammock\, Hui Ye &amp\; Qu Chang\, Jovana Reisinger\, Maria
  Margolina mit einem Begleitprogramm u.a. von und mit Positionen – Texte
  zur aktuellen Musik\, Radio 80000\, Sapir von Abel\n\nAb September 2023 p
 räsentiert  der städtische Kunstraum  Lothringer 13 Halle das Projekt
   On Listening\, das internationale künstlerische Positionen\, Theoretik
 er:innen\, Schreibende Aktivist:innen\, Audioarchive sowie Community Radio
 sender zusammenbringt\, um Dynamiken von gesprochenen und auditiven Erzäh
 lungen zu befragen. Gemeinsam machen die Beiträge die Relevanz und Komple
 xität  des Zuhörens vielperspektivisch erfahrbar und öffnen den Ausste
 llungsraum für den Austausch darüber.\n\nWem hören wir zu und was erzä
 hlen wir wem weiter? Welche Verweise auf soziale Strukturen sind in gespro
 chener Schilderung und Tonaufnahmen erhalten und zu entdecken? Was lässt 
 sich aus Musik\, Sampling\, Audioaufnahmen und Musiksammlungen ablesen\, d
 ie uns täglich begegnen? Was sagt uns das Erzählte über seine Zeit\, se
 inen Ort und wie gehen  wir damit in der Gegenwart um – gerade auch\, w
 enn uns die Erzählungen losgelöst von ihren geografischen\, zeitlichen u
 nd kulturellen Kontexten begegnen? Wie wichtig ist Zeug:innenschaft und Vi
 elperspektivität für unser Verständnis von Geschehnissen\, demokratisch
 en Strukturen und  gesellschaftlicher Entwicklung?\n\nZuhören – in For
 m der bewussten und aufmerksamen Zuwendung – ist ein wesentlicher Schrit
 t zu gegenseitigem Verständnis und gesellschaftlicher Teilhabe sowie Entw
 icklung. Zuhören meint über das Vertraute und Bekannte hinauszutreten un
 d sich anderen Perspektiven hinzuwenden. Im Zuhören steckt das Potenzial 
 ausgrenzende Systeme durch emphatische und aufmerksame Orientierungen zu e
 rkennen\, indem wir über den eigenen  Erfahrungsraum hinaushören.  Bes
 onders in Hinblick auf Privilegien\, vorherrschende patriarchale\, kolonia
 le und kapitalistische Systeme\, in denen bestimmte Stimmen dominieren und
  marginalisierte\, diskriminierte und/oder strukturell ausgeschlossene Gru
 ppen wenig gehört bleiben und/oder diese sich selbst Gehör verschaffen m
 üssen\, kann aktives Zuhören ein Werkzeug sein\, diesen Strukturen entge
 genzutreten und Raum für relevante\, aber oft ungehörte Erzählungen und
  Erfahrungen zu schaffen.\n\nDie Ausstellung möchte Zuhören als wesentli
 chen Handlungsraum für die Reflexion von sozialen Strukturen\, Wissenspro
 duktion\, demokratischen Prozessen wahrnehmbar machen sowie für die Anerk
 ennung von Traumata\, die entgegen chronologischer Narrative auf unberüc
 ksichtigte Erzählungen und Stimmen verweisen. In der internationalen Grup
 penausstellung werden künstlerische Arbeiten und  Archivmaterial gezeigt
 \, die besonders die Beziehung von Zuhörenden und Erzählenden reflektier
 en und dabei vielperspektivisch auditive Medien kontextualisieren und zug
 änglich machen.\n\nKuratiert von Christina Maria Ruederer
ATTACH;FMTTYPE=image/jpeg:https://forummuenchen.org/wp-content/uploads/202
 3/08/230728_Lothringer_on_listening_07_compressed-2-Kopie.jpg
CATEGORIES:Ausstellung
LOCATION:Lothringer 13 Halle\, Lothringer Straße 13\, München\, 81667\, D
 eutschland
X-APPLE-STRUCTURED-LOCATION;VALUE=URI;X-ADDRESS=Lothringer Straße 13\, Mü
 nchen\, 81667\, Deutschland;X-APPLE-RADIUS=100;X-TITLE=Lothringer 13 Halle
 :geo:0,0
END:VEVENT
END:VCALENDAR