BEGIN:VCALENDAR
VERSION:2.0
PRODID:-//wp-events-plugin.com//7.2.3.1//EN
BEGIN:VEVENT
UID:51@forummuenchen.org
DTSTART:20210722T200000Z
DTEND:20210722T213000Z
DTSTAMP:20210719T105943Z
URL:https://forummuenchen.org/veranstaltungen/onlinepraesenation-des-neuen
 -forum-splitters/
SUMMARY:Onlinepräsenation des neuen Forum-Splitters
DESCRIPTION:Philipp Gufler präsentiert\, online aus London das neue Künst
 lerbuch "Projektionen auf die Krise. Gauweilereien in München" (Forum Spl
 itter Nr. 17). Die Veranstaltung ist kostenlos. Zudem werden zwei Filme vo
 n Philipp vorgeführt: die Arbeit zu den Anfängen der AIDS-Krise und die 
 Arbeit zu Lana Kaiser.\n\nAm Ende der Präsentation können Fragen gestell
 t werden (in Englisch).\nWeitere Informationen und Anmeldung: Projection o
 n the Crisis
ATTACH;FMTTYPE=image/jpeg:https://forummuenchen.org/wp-content/uploads/202
 1/07/Philipp-Gufler_Projektion-auf-die-Krise_©Philipp-Gufler-und-Galerie-
 Francoise-Heitsch-Muenchen_4-1024x640-1.jpg
CATEGORIES:Vortrag
END:VEVENT
END:VCALENDAR