BEGIN:VCALENDAR
VERSION:2.0
PRODID:-//wp-events-plugin.com//7.2.3.1//EN
BEGIN:VEVENT
UID:122@forummuenchen.org
DTSTART:20251011T201500Z
DTEND:20251011T220000Z
DTSTAMP:20251001T092848Z
URL:https://forummuenchen.org/veranstaltungen/queer-im-dorf-heimat-oder-wi
 derstand/
SUMMARY:Queer im Dorf: Heimat oder Widerstand?
DESCRIPTION:Die Frage nach Identität stellt sich jedem Menschen\, doch fü
 r queere Menschen gewinnt sie oft eine besondere Schärfe\, insbesondere i
 n ländlichen Räumen. Während in städtischen Kontexten Diversität sich
 tbarer und institutionell stärker verankert ist\, erscheinen Dörfer viel
 fach als Orte\, in denen Tradition und soziale Kontrolle dominieren.\n\nIn
  einem Dorf kennt man sich – man weiß\, wer wo wohnt\, wer zu wem gehö
 rt. Aber es gibt auch Dinge\, die oft nicht sichtbar sind. Dazu gehört au
 ch die LGBTI-Community.\n\nViele Menschen\, die zu ihr gehören\, sind da 
 – doch sie bleiben im Hintergrund\, weil es schwer sein kann\, offen und
  selbstverständlich dazu zu stehen. Gerade im Dorf\, wo Nähe und Gemeins
 chaft großgeschrieben werden\, fehlt manchmal der Raum\, Vielfalt sichtba
 r zu leben.\n\nMit den heutigen Geschichten möchten wir genau darauf aufm
 erksam machen: dass Sichtbarkeit wichtig ist – damit jede und jeder sein
 en Platz in der Dorfgemeinschaft haben kann.\n\n\n\n
LOCATION:Sub - Schwules Kommunikations- und Kulturzentrum\, Müllerstraße 
 14\, München \, 80469\, Deutschland
X-APPLE-STRUCTURED-LOCATION;VALUE=URI;X-ADDRESS=Müllerstraße 14\, Münche
 n \, 80469\, Deutschland;X-APPLE-RADIUS=100;X-TITLE=Sub - Schwules Kommuni
 kations- und Kulturzentrum:geo:0,0
END:VEVENT
END:VCALENDAR