BEGIN:VCALENDAR
VERSION:2.0
PRODID:-//wp-events-plugin.com//7.2.3.1//EN
BEGIN:VEVENT
UID:119@forummuenchen.org
DTSTART:20250622T160000Z
DTEND:20250622T173000Z
DTSTAMP:20250513T140152Z
URL:https://forummuenchen.org/veranstaltungen/queere-stadtfuehrung-in-der-
 pride-week/
SUMMARY:Queere Stadtführung in der Pride Week
DESCRIPTION:Der Stadtspaziergang des Forum Queeres Archiv München führt d
 urch die manchmal bunten\, manchmal düsteren Epochen des queeren Münchne
 r Stadtlebens. Er macht zwischen Altstadt und Isarvorstadt queeres Leben d
 amals und heute greifbar. Wir wollen damit die Allgegenwärtigkeit von LGB
 TIQ* in der Stadtgeschichte sichtbar machen. Zur Pride Week führen wir di
 e Stadtführung kostenlos durch\; gegen Spenden würden wir uns aber auch 
 nicht wehren. Bitte um vorherige Anmeldung unter: info@forummuenchen.org o
 der 089/23269794
CATEGORIES:Führung,Information
LOCATION:Karl-Heinrich-Ulrichs-Platz\, Am Glockenbach\, München\, Deutschl
 and
X-APPLE-STRUCTURED-LOCATION;VALUE=URI;X-ADDRESS=Am Glockenbach\, München\,
  Deutschland;X-APPLE-RADIUS=100;X-TITLE=Karl-Heinrich-Ulrichs-Platz:geo:0,
 0
END:VEVENT
END:VCALENDAR