BEGIN:VCALENDAR
VERSION:2.0
PRODID:-//wp-events-plugin.com//7.2.3.1//EN
BEGIN:VEVENT
UID:108@forummuenchen.org
DTSTART:20241001T183000Z
DTEND:20241001T200000Z
DTSTAMP:20240928T144517Z
URL:https://forummuenchen.org/veranstaltungen/queerness-und-intersektional
 itaet-vortrag/
SUMMARY:Absage! - Queerness und Intersektionalität
DESCRIPTION:Wegen Erkrankung von Chris müssen wir die Veranstaltung leider
  absagen! Wir bemühen uns um einen zeitnahen Ersatztermin.\n\n\nDie Refer
 entin Chris Lily Kiermeier gibt eine Einführung zu Intersektionalität(en
 ) und berichtet von ihrer aktivistischen Arbeit sowie persönlichen Erfahr
 ungen (45 - 60 Minuten). Im Anschluss besteht die Möglichkeit für Fragen
  und Austausch. \n\nChris Lily Kiermeier (https://www.sexabled.de/) ist ei
 ne Münchner Bloggerin und Aktivistin. Außerdem ist sie als Model\, freie
  Autorin\, Workshop- und Seminarleiterin tätig. In ihrem Blog Sexabled be
 schäftigt sie sich mit Themen wie Behinderung und Sexualität sowie Queer
 sein mit einer Behinderung.\n\nDer Vortrag findet auf Deutsch statt. Es is
 t keine Anmeldung erforderlich. Die Veranstaltung steht allen interessiert
 en Personen offen.  \n\n\nInformationen zur Zugänglichkeit des Veranstalt
 ungsortes sind hier  zu finden \n\n\n
LOCATION:Lez - lesbisch-queeres Zentrum München\, Müllerstraße 26\, 8046
 9 München\, Deutschland
X-APPLE-STRUCTURED-LOCATION;VALUE=URI;X-ADDRESS=Müllerstraße 26\, 80469 M
 ünchen\, Deutschland;X-APPLE-RADIUS=100;X-TITLE=Lez - lesbisch-queeres Ze
 ntrum München:geo:0,0
END:VEVENT
END:VCALENDAR