BEGIN:VCALENDAR
VERSION:2.0
PRODID:-//wp-events-plugin.com//7.2.3.1//EN
BEGIN:VEVENT
UID:106@forummuenchen.org
DTSTART:20240831T123000Z
DTEND:20240831T140000Z
DTSTAMP:20240724T113049Z
URL:https://forummuenchen.org/veranstaltungen/screening-gespraech-mit-albe
 rt-knoll/
SUMMARY:Screening Gespräch mit Albert Knoll
DESCRIPTION:Zur Finissage von Philipp Guflers Einzelausstellung Confessing 
 Weakness im Traklhaus Salzburg wird sein Film Gespräch mit Albert Knoll (
 2023\, 25 Min.) gezeigt. Anschließend findet ein Gespräch mit Albert Kno
 ll\, Philipp Gufler (Künstler\, Amsterdam)\, und Conny Felice (HOSI Salzb
 urg) statt.\n\nIm Film begleitet der Künstler Philipp Gufler den Historik
 er Albert Knoll zu den zentralen Orten seiner archivarischen und vermittel
 nden Tätigkeit. Ausgehend von Knolls Arbeit für das Forum Queeres Archiv
  München (FQAM) sowie die KZ-Gedenkstätte Dachau\, wird die Verfolgung q
 ueerer Menschen im Nationalsozialismus und die moderne Archivarbeit beleuc
 htet. Der Film thematisiert die emotionale Bedeutung privater Archive sowi
 e die Bewahrung und Aufarbeitung langer vernachlässigter Geschichten.\n\n
 &nbsp\;
ATTACH;FMTTYPE=image/jpeg:https://forummuenchen.org/wp-content/uploads/202
 4/07/Web_Poster_Gespraech-mit-Albert-Knoll_klein.jpg
LOCATION:Galerie Kunst im Traklhaus\, Waagplatz 1a\, 5020 Salzburg\, Öster
 reich
X-APPLE-STRUCTURED-LOCATION;VALUE=URI;X-ADDRESS=Waagplatz 1a\, 5020 Salzbur
 g\, Österreich;X-APPLE-RADIUS=100;X-TITLE=Galerie Kunst im Traklhaus:geo:
 0,0
END:VEVENT
END:VCALENDAR