BEGIN:VCALENDAR
VERSION:2.0
PRODID:-//wp-events-plugin.com//7.2.3.1//EN
BEGIN:VEVENT
UID:96@forummuenchen.org
DTSTART;VALUE=DATE:20231103
DTEND;VALUE=DATE:20231105
DTSTAMP:20231028T165452Z
URL:https://forummuenchen.org/veranstaltungen/super-books-4-im-haus-der-ku
 nst/
SUMMARY:Super BOOKS 4 im Haus der Kunst
DESCRIPTION:Freitag\, 3. Nov\, 16 - 22 Uhr\nSamstag\, 4. Nov\, 12 - 20 Uhr\
 n\nDas Forum Queers Archiv München nimmt wieder mit einem Bücherstand an
  der Super BOOKS 4 teil. Seit dem Auftakt im Jahr 2019 erhält die sehr l
 ebendige und aktive Künstler*innenbuchszene zum vierten Mal die Fläche f
 ür einen gemeinsamen Auftritt.\nAm 3. und 4. November zeigen über 50 Kü
 nstler*innen\, Gestalter*innen und alternative Verleger*innen sowie drei H
 ochschulen ihre aktuellen Produktionen im Haus der Kunst. Neben Produzent*
 innen aus Deutschland sind in diesem Jahr auch Aussteller*innen aus Spanie
 n\, Italien\, Frankreich\, Österreich\, England\, Belgien\, den Niederlan
 den und Südkorea vertreten. Die Teilnehmenden sehen sich in der Tradition
  der 1960er Jahre\, als sich im Umfeld der postavantgardistischen Kunstsze
 ne neue Kommunikations- und Distributionsnetze bildeten. Ihre Produkte wie
  Künstler*innenbücher\, Magazine oder Zines sind autonome Kunstwerke.\nZ
 usätzlich zu den Präsentationen finden an beiden Tagen verteilt Workshop
 s für alle Altersgruppen mit den Teams von kultur und spielraum e.V. / pi
 rat:innenpresse\, Kunsthaus KAT18 und Haus der Kunst statt. Radio 80000\, 
 ein nichtkommerzielles Onlineradio aus München\, baut während der Verans
 taltung sein Studio auf und sendet live aus dem Haus der Kunst mit Sound u
 nd Talks.
ATTACH;FMTTYPE=image/jpeg:https://forummuenchen.org/wp-content/uploads/202
 3/10/SUPERBOOKS_LOGO_YELLOW_RGB_WORDMARK-YELLOW-RGB.png
CATEGORIES:Ausstellung
LOCATION:Haus der Kunst\, Prinzregentenstraße 1\, München\, 80538\, Deuts
 chland
X-APPLE-STRUCTURED-LOCATION;VALUE=URI;X-ADDRESS=Prinzregentenstraße 1\, M
 ünchen\, 80538\, Deutschland;X-APPLE-RADIUS=100;X-TITLE=Haus der Kunst:ge
 o:0,0
END:VEVENT
END:VCALENDAR