BEGIN:VCALENDAR
VERSION:2.0
PRODID:-//wp-events-plugin.com//7.2.3.1//EN
BEGIN:VEVENT
UID:112@forummuenchen.org
DTSTART:20241102T140000Z
DTEND:20241103T200000Z
DTSTAMP:20241025T150404Z
URL:https://forummuenchen.org/veranstaltungen/superbooks-5/
SUMMARY:SuperBOOKS 5
DESCRIPTION:Das ungewöhnliche Buchevent! Im November findet im Haus der Ku
 nst die fünfte Ausgabe von SuperBOOKS statt. \nAn zwei Tagen zeigen Küns
 tler\, Designer und alternative Verlage in der Mittelhalle und im Gartensa
 al ihre Publikationen. \nDas Forum nimmt auch dieses Jahr wieder mit einem
  eigenen Stand teil. 
ATTACH;FMTTYPE=image/jpeg:https://forummuenchen.org/wp-content/uploads/202
 4/10/SuperBOOKS-5-e1729772283528.png
CATEGORIES:Ausstellung,Information
LOCATION:Haus der Kunst\, Prinzregentenstraße 1\, München\, 80538\, Deuts
 chland
X-APPLE-STRUCTURED-LOCATION;VALUE=URI;X-ADDRESS=Prinzregentenstraße 1\, M
 ünchen\, 80538\, Deutschland;X-APPLE-RADIUS=100;X-TITLE=Haus der Kunst:ge
 o:0,0
END:VEVENT
END:VCALENDAR