BEGIN:VCALENDAR
VERSION:2.0
PRODID:-//wp-events-plugin.com//7.2.3.1//EN
BEGIN:VEVENT
UID:124@forummuenchen.org
DTSTART:20251025T140000Z
DTEND:20251026T200000Z
DTSTAMP:20251022T140909Z
URL:https://forummuenchen.org/veranstaltungen/superbooks-im-haus-der-kunst
 /
SUMMARY:SuperBOOKS im Haus der Kunst
DESCRIPTION:[caption id="attachment_213072" align="alignnone" width="300"] 
 Design ohne Titel - 1[/caption]\n\nBereits zum sechsten Mal bringt SuperBO
 OKS – die unabhängige Messe der Künstler*innenbuchszene – rund 70 na
 tionale und internationale Künstler*innen\, Gestalter*innen\, Verleger*in
 nen und Institutionen im Haus der Kunst zusammen\, um Publikationen zu pr
 äsentieren\, die über die Grenzen des Mediums Buch hinausdenken. \nDas F
 orum wird wieder mit einem eigenen Stand vertreten sein. \nBesucht uns - S
 uperBOOKS ist immer wieder ein besonderes Erlebnis!\n\nEintritt frei
CATEGORIES:Information,Kulturprogramm,Veranstaltung,Verkaufsausstellung
LOCATION:Haus der Kunst\, Prinzregentenstraße 1\, München\, 80538\, Deuts
 chland
X-APPLE-STRUCTURED-LOCATION;VALUE=URI;X-ADDRESS=Prinzregentenstraße 1\, M
 ünchen\, 80538\, Deutschland;X-APPLE-RADIUS=100;X-TITLE=Haus der Kunst:ge
 o:0,0
END:VEVENT
END:VCALENDAR