BEGIN:VCALENDAR
VERSION:2.0
PRODID:-//wp-events-plugin.com//7.2.3.1//EN
BEGIN:VEVENT
UID:49@forummuenchen.org
DTSTART;VALUE=DATE:20210611
DTEND;VALUE=DATE:20220228
DTSTAMP:20220102T185823Z
URL:https://forummuenchen.org/veranstaltungen/sweat-im-haus-der-kunst-muen
 chen/
SUMMARY:"Sweat" im Haus der Kunst München
DESCRIPTION:Die Gruppenausstellung "Sweat" ist das Ergebnis von zwei Jahren
  intensiver Recherche. Sie widmet sich dem Phänomen von Körpern\, die ge
 meinsam agieren und ihre Gegenwart gestalten. Der Schweißausbruch angesic
 hts gewaltsamer Versuche\, den menschlichen Körper zu kontrollieren\, ste
 ht für eine künstlerische Strategie des Widerstands.\n\nPhilipp Gufler z
 eigt die Installation "I Wanna Give You Devotion" und seine neue Videoarbe
 it "Lana Kaiser". Im Zentrum von "I Wanna Give You Devotion" steht die Po
 stersammlung des Forum. Für die Installation hat Gufler weitere Künstle
 r*innen und Kollektive eingeladen\, die Postersammlung zu befragen\, zu er
 weitern und zu aktualisieren.\n\nAbbildung: Philipp Gufler: Lana Kaiser\, 
 2020\, Videoinstallation\, 12 min.\, HD\, Sound\, Courtesy the artist and 
 BQ\, Berlin
ATTACH;FMTTYPE=image/jpeg:https://forummuenchen.org/wp-content/uploads/202
 1/04/Philipp-Gufler-Lana-Kaiser-Still-07.jpg
CATEGORIES:Ausstellung
LOCATION:Haus der Kunst\, Prinzregentenstraße 1\, München\, 80538\, Deuts
 chland
X-APPLE-STRUCTURED-LOCATION;VALUE=URI;X-ADDRESS=Prinzregentenstraße 1\, M
 ünchen\, 80538\, Deutschland;X-APPLE-RADIUS=100;X-TITLE=Haus der Kunst:ge
 o:0,0
END:VEVENT
END:VCALENDAR