BEGIN:VCALENDAR
VERSION:2.0
PRODID:-//wp-events-plugin.com//7.2.3.1//EN
BEGIN:VEVENT
UID:126@forummuenchen.org
DTSTART:20251206T200000Z
DTEND:20251206T220000Z
DTSTAMP:20251112T095504Z
URL:https://forummuenchen.org/veranstaltungen/szenische-lesung-des-dokumen
 tartheaterprojekts-paragraf-175/
SUMMARY:Szenische Lesung des Dokumentartheaterprojekts Paragraf 175
DESCRIPTION:Wir laden euch herzlich zu einer szenischen Lesung unseres doku
 mentarisch-theatralischen Projekts Paragraf 175 ein.\nDas Projekt versteht
  sich als begehbares Archiv queerer Erinnerungen aus dem Münchner Glocken
 bachviertel der 1980er und 1990er Jahre – eine Sammlung lebendiger Stimm
 en\, die die Lücken der offiziellen Geschichtsschreibung füllt.\nEs basi
 ert auf persönlichen Interviews mit Zeitzeug:innen\, die im Sommer 2025 g
 eführt wurden\, sowie auf Archivmaterialien des Forum Queeres Archiv Mün
 chen e.V..\n\nWir befinden uns in fortlaufender Arbeit und möchten euch e
 ine Auswahl neu zusammengestellter Monologe unserer Erzähler:innen vorste
 llen.\nIm Anschluss laden wir euch zu einem offenen Gespräch über die Ge
 schichten ein.\n\nWir sind keine professionelle Theatergruppe\, sondern Me
 nschen mit brennenden Herzen für unsere Community und ihre Geschichte.\nR
 egie: Vit Kogut\, Theaterregisseur und Pädagoge\; vor 3 Jahren aus politi
 schen Gründen von Moskau nach München migriert.\n\nDer Eintritt ist frei
 .\n\nFoto: Horst Middelhoff
CATEGORIES:Lesung
LOCATION:Sub - Schwules Kommunikations- und Kulturzentrum\, Müllerstraße 
 14\, München \, 80469\, Deutschland
X-APPLE-STRUCTURED-LOCATION;VALUE=URI;X-ADDRESS=Müllerstraße 14\, Münche
 n \, 80469\, Deutschland;X-APPLE-RADIUS=100;X-TITLE=Sub - Schwules Kommuni
 kations- und Kulturzentrum:geo:0,0
END:VEVENT
END:VCALENDAR