BEGIN:VCALENDAR
VERSION:2.0
PRODID:-//wp-events-plugin.com//7.2.3.1//EN
BEGIN:VEVENT
UID:99@forummuenchen.org
DTSTART:20240302T140000Z
DTEND:20240302T150000Z
DTSTAMP:20240227T120402Z
URL:https://forummuenchen.org/veranstaltungen/tag-der-archive/
SUMMARY:Tag der Archive
DESCRIPTION:Auch am diesjährigen Tag der Archive nehmen wir wieder teil. U
 nser Vorstandsmitglied Stefan Gruhne wird am 02.03. um 14 Uhr eine Führun
 g geben. Wir bitten um Anmeldung.
ATTACH;FMTTYPE=image/jpeg:https://forummuenchen.org/wp-content/uploads/202
 4/02/tag-der-archive_l.jpeg
CATEGORIES:Führung
LOCATION:Forum Queeres Archiv München e.V.\, Bayerstr. 77a RGB III (leider
  nicht barrierefrei)\, 80335 München\, Deutschland
X-APPLE-STRUCTURED-LOCATION;VALUE=URI;X-ADDRESS=Bayerstr. 77a RGB III (leid
 er nicht barrierefrei)\, 80335 München\, Deutschland;X-APPLE-RADIUS=100;X
 -TITLE=Forum Queeres Archiv München e.V.:geo:0,0
END:VEVENT
END:VCALENDAR