BEGIN:VCALENDAR
VERSION:2.0
PRODID:-//wp-events-plugin.com//7.2.3.1//EN
BEGIN:VEVENT
UID:105@forummuenchen.org
DTSTART:20240724T170000Z
DTEND:20240724T183000Z
DTSTAMP:20240710T152919Z
URL:https://forummuenchen.org/veranstaltungen/thematische-archivfuehrung-z
 ur-aids-konferenz/
SUMMARY:Archivführung / Archive-Tour zur AIDS-Konferenz
DESCRIPTION:Das Archiv des Forum Queeres Archiv München sammelt seit 1999 
 Zeugnisse des queeren Lebens in München. Über 4.600 Bücher\, mehr als 2
 20 Zeitschriftentitel\, Zeitungsausschnitte\, Akten\, außerdem Poster\, F
 lyer\, DVDs\, T-Shirts\, Buttons und vieles mehr gibt es bei uns zu entdec
 ken. Im Rahmen der internationalen Aidskonferenz bietet Vereinsvorstand Al
 bert Knoll eine thematische Führung zur Aids-Geschichte in unserem Archiv
  an. \nAchtung: Begrenzte Teilnehmendenzahl - bitte um vorherige Anmeldung
  unter: info@forummuenchen.org oder 089/23269794\n\nThe archive of the For
 um Queeres Archiv München has been collecting evidence of queer life in M
 unich since 1999. There are over 4\,600 books\, more than 220 magazine tit
 les\, newspaper clippings\, files\, as well as posters\, flyers\, DVDs\, T
 -shirts\, buttons and much more to discover here. In addition to the inter
 national AIDS conference\, association chairman Albert Knoll is offering a
  thematic tour of the history of AIDS in our archive. \nLimited number of 
 participants! Please register in advance at: info@forummuenchen.org or 089
 /23269794\n\n\n
CATEGORIES:Führung,Information
LOCATION:Forum Queeres Archiv München e.V.\, Bayerstr. 77c Rgb. (leider ni
 cht barrierefrei)\, München\, 80335\, Bayern\, Deutschland
X-APPLE-STRUCTURED-LOCATION;VALUE=URI;X-ADDRESS=Bayerstr. 77c Rgb. (leider 
 nicht barrierefrei)\, München\, 80335\, Bayern\, Deutschland;X-APPLE-RADI
 US=100;X-TITLE=Forum Queeres Archiv München e.V.:geo:0,0
END:VEVENT
END:VCALENDAR