BEGIN:VCALENDAR
VERSION:2.0
PRODID:-//wp-events-plugin.com//7.2.3.1//EN
BEGIN:VEVENT
UID:120@forummuenchen.org
DTSTART:20250614T160000Z
DTEND:20250614T173000Z
DTSTAMP:20250605T084725Z
URL:https://forummuenchen.org/veranstaltungen/thematische-stadtfuehrung-zu
 -therese-giehse/
SUMMARY:Thematische Stadtführung zu Therese Giehse
DESCRIPTION:Anlässlich des 50. Todestages Therese Giehse (3. März 2025) b
 ietet das Forum Queeres Archiv München eine thematische Stadtführung an.
 \nAriane Rüdiger\, Journqalistin und Buchautorin\, wird dabei in der Mün
 chner Innenstadt Orte aus Giehses Leben ansteuern.\nTreffpunkt: vor den Ka
 mmerspielen in der Maximilianstr. Gebühr: 10 Euro\nDie Plätze sind begre
 nzt\, wir bitten daher um Anmeldung unter: info@forummuenchen.org. (Anmeld
 eschluss: 12.Juni).\nBei sehr schlechtem Wetter wird die Führung spätest
 ens am 13.Juni abends abgesagt.
LOCATION:Kammerspiele München\, Maximilianstraße 26-28\, München\, 80539
 \, Deutschland
X-APPLE-STRUCTURED-LOCATION;VALUE=URI;X-ADDRESS=Maximilianstraße 26-28\, M
 ünchen\, 80539\, Deutschland;X-APPLE-RADIUS=100;X-TITLE=Kammerspiele Mün
 chen:geo:0,0
END:VEVENT
END:VCALENDAR