BEGIN:VCALENDAR
VERSION:2.0
PRODID:-//wp-events-plugin.com//7.2.3.1//EN
BEGIN:VEVENT
UID:74@forummuenchen.org
DTSTART;VALUE=DATE:20221007
DTEND;VALUE=DATE:20230522
DTSTAMP:20230124T114131Z
URL:https://forummuenchen.org/veranstaltungen/to-be-seen-queer-lives-1900-
 1950/
SUMMARY:To Be Seen | Queer Lives 1900-1950
DESCRIPTION:To Be Seen widmet sich den Geschichten von LGBTIQ* in Deutschla
 nd in der ersten Hälfte des 20. Jahrhunderts. Mit historischen Zeugnissen
  und künstlerischen Positionen von damals bis in die Gegenwart zeichnet d
 ie Ausstellung queere Lebensentwürfe und Netzwerke\, Freiräume und Verfo
 lgung nach. Sie möchte bis heute andauernde Tendenzen des Verdrängens ü
 berwinden und zu einer aktiven Erinnerung beitragen.\n\nIm Lernforum im 1.
  UG des NS-Dokumentationszentrums ist als Teil der Ausstellung auch eine I
 ntervention zu Paul Hoecker mit Original Gemälden von ihm zu sehen. Unser
 e Forschungsgruppe am Forum Queeres Archiv München konnte dafür eng mit 
 den Kurator*innen der Ausstellung zusammenarbeiten und einige erste Ergebn
 isse unserer Forschung zu Paul Hoecker einem größeren Publikum präsenti
 eren. Wir freuen uns\, dass dadurch das Werk von Paul Hoecker damit endlic
 h wieder in München präsentiert wird.\n\n&gt\;weitere Infos\n\n&nbsp\;
ATTACH;FMTTYPE=image/jpeg:https://forummuenchen.org/wp-content/uploads/202
 3/01/NSD_TO_BE_SEEN_Gufler_6_klein.jpg
CATEGORIES:Ausstellung
LOCATION:NS-Dokumentationszentrum München\, Max-Mannheimer-Platz 1\, 80333
  München\, Deutschland
X-APPLE-STRUCTURED-LOCATION;VALUE=URI;X-ADDRESS=Max-Mannheimer-Platz 1\, 80
 333 München\, Deutschland;X-APPLE-RADIUS=100;X-TITLE=NS-Dokumentationszen
 trum München:geo:0,0
END:VEVENT
END:VCALENDAR