BEGIN:VCALENDAR
VERSION:2.0
PRODID:-//wp-events-plugin.com//7.2.3.1//EN
BEGIN:VEVENT
UID:41@forummuenchen.org
DTSTART:20151213T150000Z
DTEND:20151213T150000Z
DTSTAMP:20200616T123430Z
URL:https://forummuenchen.org/veranstaltungen/totgeschlagen-totgeschwiegen
 /
SUMMARY:Totgeschlagen &amp\; Totgeschwiegen
DESCRIPTION:\n\nVerfolgung und Gedenken: Der Rosa-Winkel-Gedenkstein in der
  KZ-Gedenkstätte Dachau\n\n\n\n\n„Totgeschlagen – Totgeschwiegen“ l
 autet der Text auf der Gedenktafel für die Rosa-Winkel-Häftlinge. Es war
  der Wunsch der Münchner Schwulengruppen\, dass diese Tafel aus rosa Marm
 or 1985 im Museum der KZ-Gedenkstätte Dachau aufgestellt werden würde\, 
 um wenigstens einen Hinweis auf die Homosexuellenverfolgung zu geben. Es f
 olgte jedoch ein zehn Jahre dauernder Kampf gegen alte Vorurteile\, die un
 ter den Überlebenden des KZ\, aber auch unter den Politikern noch lange l
 ebendig waren. Ein steter Druck der homosexuellen Szene\, getragen vom Wan
 del des Zeitgeistes\, setzte sich schließlich durch. Nach zehn langen Jah
 ren war endlich das Ziel erreicht\, die schwulen Opfer des Konzentrationsl
 agers waren 1995 hinsichtlich des Gedenkens auf einer Augenhöhe mit ihren
  Leidensgenossen angekommen\, die von den etablierten Opferverbänden vert
 reten werden. Ein neu angefertigter Stein konnte seinen endgültigen Platz
  im Gedenkraum des Museums in Dachau finden.\n\nAnlässlich der Auseinande
 rsetzung um das Gedenken an die lange Zeit verfemte Opfergruppe der Homose
 xuellen\, die vor 30 Jahren begann\, beleuchtet ein neues Buch aus der Rei
 he "Splitter" des Forums die Hintergründe der Verfolgung wie auch das Rin
 gen um ein angemessenes Gedenken und gibt einen Ausblick auf das Münchner
  Mahnmal für verfolgte Lesben und Schwule\, das im kommenden Jahr am Ober
 anger eröffnet werden wird. Historiker und renommierte Autor_Innen aus de
 r Gedenkkulturforschung kommen in diesem Buch ebenso zu Wort wie Zeitzeuge
 n aus den Schwulengruppen – allen voran HuK (Homosexuelle und Kirche\, R
 egionalgruppe München) und VSG (Verein für Sexuelle Gleichberechtigung) 
 - die sich damals maßgeblich für ein angemessenes Gedenken an die homose
 xuellen Opfer des KZ Dachau eingesetzt haben. Herausgegeben wird das Buch 
 vom forum homosexualität münchen und dessen Vorsitzenden Albert Knoll\, 
 der als langjähriger Mitarbeiter der KZ-Gedenkstätte Dachau Einblick in 
 die Akten der 30 Jahre zurückliegenden Ereignisse nahm.\n\nDer neue "Spli
 tter" Der Rosa-Winkel-Gedenkstein. Die Erinnerung an die Homosexuellen im 
 KZ Dachau wird am Sonntag\, 13. Dezember 2015 um 15 Uhr in der Deutschen E
 iche (Reichenbachstr. 13) der Öffentlichkeit vorgestellt.\n\nAnmeldung un
 ter 089 231 1660 (Hotel-Rezeption Deutsche Eiche)\n\n
LOCATION:Deutsche Eiche\, Reichenbachstr. 13\, München\, Deutschland
X-APPLE-STRUCTURED-LOCATION;VALUE=URI;X-ADDRESS=Reichenbachstr. 13\, Münch
 en\, Deutschland;X-APPLE-RADIUS=100;X-TITLE=Deutsche Eiche:geo:0,0
END:VEVENT
END:VCALENDAR