BEGIN:VCALENDAR
VERSION:2.0
PRODID:-//wp-events-plugin.com//7.2.3.1//EN
BEGIN:VEVENT
UID:31@forummuenchen.org
DTSTART;VALUE=DATE:20220401
DTEND;VALUE=DATE:20220801
DTSTAMP:20221205T175308Z
URL:https://forummuenchen.org/veranstaltungen/transtrans/
SUMMARY:TransVision
DESCRIPTION:Präsentiert vom Forum Queeres Archiv München\, in Kooperation
  mit dem Amerikahaus München.\nTransVision besteht aus:\n„TransTrans 
 – Transatlantische Transgendergeschichte“\, die Abbildung eines Netzwe
 rkes von Menschen - diesseits und jenseits des Atlantiks -  die Trans*Ges
 chichte geschrieben\, erzählt und geprägt haben.\n„TransMünchen - Ges
 chichte und Gegenwart Münchner Trans*Menschen". TransMünchen wirft einen
  Blick auf die Geschichte und Gegenwart Münchner Trans*menschen und ihrer
  Community\, von der „dunklen“ Periode zu Beginn des 20. Jahrhunderts\
 , über erste Gesetze zum Schutz von Transpersonen\, neue Erkenntnisse der
  Medizin\, bis zur Gründung erster Selbsthilfegruppen und Vereine und dar
 über hinaus.\n„TransCulture“ ergänzt beide Ausstellungen durch ein v
 ielfältiges Angebot an begleitenden Veranstaltungen\, wie Vorträge\, Fil
 me\, Couchgespräche und mehr.\nAm 31. März 2022\, dem internationalen Tr
 ansgender Day of Visibility\, findet eine große Eröffnungsgala mit gelad
 enen Gästen statt.\n  
ATTACH;FMTTYPE=image/jpeg:https://forummuenchen.org/wp-content/uploads/202
 0/06/2022-02-18_K1_RZ_Plakat_TransVision_TransMuenchen_MIT_logo_forum_jpg-
 scaled.jpg
CATEGORIES:Ausstellung,Filmvorführung,Lesung,Vortrag
LOCATION:Amerikahaus\, Karolinenplatz 3\, 80333 München\, Deutschland
X-APPLE-STRUCTURED-LOCATION;VALUE=URI;X-ADDRESS=Karolinenplatz 3\, 80333 M
 ünchen\, Deutschland;X-APPLE-RADIUS=100;X-TITLE=Amerikahaus:geo:0,0
END:VEVENT
END:VCALENDAR