BEGIN:VCALENDAR
VERSION:2.0
PRODID:-//wp-events-plugin.com//7.2.3.1//EN
BEGIN:VEVENT
UID:128@forummuenchen.org
DTSTART:20251202T180000Z
DTEND:20251202T190000Z
DTSTAMP:20251120T114052Z
URL:https://forummuenchen.org/veranstaltungen/vortrag-queerness-und-inters
 ektionalitaet/
SUMMARY:Vortrag „Queerness und Intersektionalität“
DESCRIPTION:Das Forum Queeres Archiv München freut sich sehr\, einen Vortr
 ag zum Thema Queerness und Intersektionalität anbieten zu können. Die Re
 ferentin Chris Lily Kiermeier gibt eine Einführung zu Intersektionalität
 (en) und berichtet von ihrer aktivistischen Arbeit sowie persönlichen Erf
 ahrungen. Im Anschluss besteht die Möglichkeit für Fragen und Austausch.
  \n\nChris Lily Kiermeier (https://www.sexabled.de/) ist eine Münchner Bl
 oggerin und Aktivistin. Außerdem ist sie als Model\, freie Autorin\, Work
 shop- und Seminarleiterin tätig. In ihrem Blog Sexabled beschäftigt sie 
 sich mit Themen wie Behinderung und Sexualität sowie Queersein mit einer 
 Behinderung. \n\nDas Forum Queeres Archiv München sammelt und forscht zur
  LGBTIQ*-Geschichte in München und Bayern. Eine Arbeitsgruppe verfolgt da
 s Ziel\, intersektionale queere Perspektiven in der Vereinsarbeit stärker
  zu integrieren. \n\nDer Vortrag findet auf Deutsch statt. Es ist keine An
 meldung erforderlich. Die Veranstaltung steht allen interessierten Persone
 n offen.\nInformationen zur Zugänglichkeit des Veranstaltungsort sind hie
 r zu finden: https://www.lez-muenchen.de/ueber-uns/barrierefreiheit.html\n
 \nWir danken dem LeZ für die Unterstützung. \n\n\n
CATEGORIES:Talk,Vortrag
LOCATION:Lez - lesbisch-queeres Zentrum München\, Müllerstraße 26\, 8046
 9 München\, Deutschland
X-APPLE-STRUCTURED-LOCATION;VALUE=URI;X-ADDRESS=Müllerstraße 26\, 80469 M
 ünchen\, Deutschland;X-APPLE-RADIUS=100;X-TITLE=Lez - lesbisch-queeres Ze
 ntrum München:geo:0,0
END:VEVENT
END:VCALENDAR