BEGIN:VCALENDAR
VERSION:2.0
PRODID:-//wp-events-plugin.com//7.2.3.1//EN
BEGIN:VEVENT
UID:34@forummuenchen.org
DTSTART:20150214T130000Z
DTEND:20150214T180000Z
DTSTAMP:20200616T120339Z
URL:https://forummuenchen.org/veranstaltungen/workshop-how-to-do-a-zine-mi
 t-maria-buehner-und-meike-tischer/
SUMMARY:Workshop // How to do a Zine // mit Maria Bühner und Meike Tischer
DESCRIPTION:\n\nZines sind ein wunderbares Mittel\, um eigenen Gedanken und
  Ideen einen Raum zu geben und sie gleichzeitig mit anderen zu teilen. Wir
  möchten gerne zusammen mit euch ein Zine und einen Beitrag für das Maga
 zin Florida # 01 machen. Bringt gerne eigenes Bild- und Textmaterial mit\,
  wenn ihr welches habt. Außerdem können wir gemeinsam eigene und gesamme
 lte queer/feministischen Zines anschauen\, die ihr gerne zum Workshop mitb
 ringen könnt.\nAnmeldung unter info@lothringer13florida.org\nMeike Tische
 r ist Künstlerin und Zinemacherin aus München.\nMaria Bühner hat an der
  Universität Leipzig und University of East London studiert. Nach ihrem M
 asterabschluss in Kulturwissenschaften promoviert sie an der Universität 
 Leipzig zu Lesben in der DDR. Queer/feministische Zines waren nicht nur da
 s Thema ihrer Abschlussarbeit\, sondern sie sind auch eine ihrer Leidensch
 aften.\nEine Veranstaltung in Kooperation mit Lothringer13_Florida und dem
  Forum Homosexualität München e.V.- Lesben und Schwule in Geschichte und
  Kultur \nDiese Veranstaltung wird durch das Kulturreferat der Landeshaup
 tstadt München gefördert.\n\n
ATTACH;FMTTYPE=image/jpeg:https://forummuenchen.org/wp-content/uploads/202
 0/06/Personal-Zines_Florida.jpg
LOCATION:Lothringer13_Florida\, Lothringerstr. 13\, RGB\, München\, 81667\
 , Deutschland
X-APPLE-STRUCTURED-LOCATION;VALUE=URI;X-ADDRESS=Lothringerstr. 13\, RGB\, M
 ünchen\, 81667\, Deutschland;X-APPLE-RADIUS=100;X-TITLE=Lothringer13_Flor
 ida:geo:0,0
END:VEVENT
END:VCALENDAR