BEGIN:VCALENDAR
VERSION:2.0
PRODID:-//wp-events-plugin.com//7.2.3.1//EN
BEGIN:VEVENT
UID:113@forummuenchen.org
DTSTART:20241116T100000Z
DTEND:20241116T150000Z
DTSTAMP:20241024T123119Z
URL:https://forummuenchen.org/veranstaltungen/workshop-intersektionalitaet
 -und-antidiskriminierung/
SUMMARY:Workshop Intersektionalität und Antidiskriminierung
DESCRIPTION:Der Workshop soll grundsätzlich über das Thema aufklären und
  zur Selbstreflexion veranlassen. \nDer Workshop gliedert sich in 3 Module
 : \nDer erste Teil offeriert Wissenswertes z.B. zur Entstehung und der Ent
 wicklung des Begriffs Intersektionalität und zu seinen Besonderheiten.\nI
 m zweiten Teil wenden wir den Blick nach innen\, Richtung Selbstreflexion 
 und Introspektive. Die Arbeit mit und in uns selbst ist nicht nur beim unl
 earning von diskriminierendem Verhalten wichtig\, sondern auch bei der Fra
 ge "Wie geht’s mir mit dem Thema?" \nIm dritten Teil stehen Teamarbeit\,
  unsere Visionen und Wünsche bei der Mitarbeit im Forum oder anderen Proj
 ekten im Mittelpunkt.\n\nLeitung: Muriel Aichberger\, freiberuflicher Vort
 ragsredner\, Trainer für\nThemen rund um Equity\, Diversity und Inclusivi
 ty\; Dozent für Gender- und Queer-Studies an der LMU München \n\nDie Tei
 lnahme ist kostenfrei. \nnur noch wenige Plätze frei - bitte anmelden\, u
 nter info@forummuenchen.org.\n
LOCATION:Forum Queeres Archiv München e.V.\, Bayerstr. 77c Rgb. (leider ni
 cht barrierefrei)\, München\, 80335\, Bayern\, Deutschland
X-APPLE-STRUCTURED-LOCATION;VALUE=URI;X-ADDRESS=Bayerstr. 77c Rgb. (leider 
 nicht barrierefrei)\, München\, 80335\, Bayern\, Deutschland;X-APPLE-RADI
 US=100;X-TITLE=Forum Queeres Archiv München e.V.:geo:0,0
END:VEVENT
END:VCALENDAR